BEGIN:VCALENDAR
VERSION:2.0
PRODID:-//ChamberMaster//Event Calendar 2.0//EN
METHOD:PUBLISH
X-PUBLISHED-TTL:P3D
REFRESH-INTERVAL:P3D
CALSCALE:GREGORIAN
BEGIN:VEVENT
DTSTART:20210602T040000Z
DTEND:20210602T050000Z
X-MICROSOFT-CDO-ALLDAYEVENT:FALSE
SUMMARY:YPC: Present Like a Boss
DESCRIPTION:Over a year into the pandemic\, working from home and the use of online presentation tools are the norm.\n\n\n\nHowever\, giving a presentation in a virtual setting is different from an in-person one. The absence of physical engagement and body language can make it more difficult to deliver the intended message to your audience. If you are still struggling to get the hang of virtual presentations or want to improve\, then please join us for a training session by one of the world's leading public speakers\, Mr. Arnulfo S. Aniel (Arnie). This event will provide you with the necessary knowledge and skills to perfect your pitch and be ready for your next online presentation.\n\n\n\nSpeaker: Arnulfo S. Aniel (Arnie)\n\n\n\nDevelopment Consultant\, Arnie Consultant Company Limited\n\nDistinguished Toastmaster\, Toastmasters International\n\nSemi-finalist\, 2015 World Championship of Public Speaking\n\n\n\nAll the proceeds from this event will go directly to our Adopt-A-School Program\, where we actively seek out ways to support children in rural areas of Thailand to achieve a brighter future. If you would like to make direct donations to this fund\, then please reach out to our YPC Leaders Trent\, Eliot\, Boat\, or their AMCHAM coordinator Petch.\n\n\n\n\n\n*You will receive an invitation with link to join the webinar by COB on the day prior to event*
X-ALT-DESC;FMTTYPE=text/html:<div style="box-sizing: border-box\; font-family: &quot\;Segoe UI&quot\;\, system-ui\, &quot\;Apple Color Emoji&quot\;\, &quot\;Segoe UI Emoji&quot\;\, sans-serif\; font-size: 14px\;"><span style="font-family:arial\;">Over a year into the pandemic\, working from home and the use of online presentation tools are the norm.<br />\n<br />\nHowever\, giving a presentation in a virtual setting is different from an in-person one. The absence of physical engagement and body language can make it more difficult to deliver the intended message to your audience. If you are still struggling to get the hang of virtual presentations or want to improve\, then please join us for a training session by one of the world&rsquo\;s leading public speakers\, Mr. Arnulfo S. Aniel (Arnie). This event will provide you with the necessary knowledge and skills to perfect your pitch and be ready for your next online presentation.<br />\n<br />\n<strong>Speaker: </strong><strong><a href="https://www.linkedin.com/in/arnulfo-arnie-aniel-ed-d-680ba562/" rel="noreferrer noopener" tabindex="-1" target="_blank" title="https://www.linkedin.com/in/arnulfo-arnie-aniel-ed-d-680ba562/">Arnulfo S. Aniel (Arnie)</a></strong><br />\n<br />\nDevelopment Consultant\, Arnie Consultant Company Limited<br />\nDistinguished Toastmaster\, Toastmasters International<br />\nSemi-finalist\, 2015 World Championship of Public Speaking<br />\n<br />\nAll the proceeds from this event will go directly to our Adopt-A-School Program\, where we actively seek out ways to support children in rural areas of Thailand to achieve a brighter future. If you would like to make direct donations to this fund\, then please reach out to our YPC Leaders Trent\, Eliot\, Boat\, or their AMCHAM coordinator Petch.</span><br />\n<br />\n<br />\n*You will receive an invitation with link to join the webinar by COB on the day prior to event*</div>\n
LOCATION:Webinar
UID:e.3314.1921
SEQUENCE:3
DTSTAMP:20260420T160119Z
URL:https://connect.amchamthailand.com/events/details/ypc-present-like-a-boss-1921
END:VEVENT

END:VCALENDAR
