BEGIN:VCALENDAR
VERSION:2.0
PRODID:-//ChamberMaster//Event Calendar 2.0//EN
METHOD:PUBLISH
X-PUBLISHED-TTL:P3D
REFRESH-INTERVAL:P3D
CALSCALE:GREGORIAN
BEGIN:VEVENT
DTSTART:20200227T110000Z
DTEND:20200227T140000Z
X-MICROSOFT-CDO-ALLDAYEVENT:FALSE
SUMMARY:YPC Networking - Rock Your LinkedIn Profile!
DESCRIPTION:Are you looking for a new business lead or seeking to build a strong professional networking profile on your LinkedIn?  Learn how to make a great first impression with your LinkedIn Profile at this YPC event\, followed by networking with fellow young professionals.\n\n\nJoin us as we welcome Pla Phungsoontorn   Account Director\, LinkedIn Singapore on February 27. With almost 6 years at LinkedIn Singapore\, Pla has worked closely with companies in Thailand\, Malaysia\, Vietnam and Myanmar to provide strategic advice for companies to be successful on LinkedIn.\n\n\n\nFood Menu:\n\nCrispy Homemade Vegetable Spring Rolls\n\nSpicy Shrimp Cocktail\n\nMini Chicken Burger\n\nMango Cheese Cake With Raspberry\n\n\n\nEntrance fee includes finger food\, one free gin & tonic and one lucky draw entry.\n\nAll proceeds benefit the American Chamber of Commerce in Thailand Foundation (ATF) - Adopt-a-School program.
X-ALT-DESC;FMTTYPE=text/html:<div font-size:="" open="">Are you looking for a new business lead or seeking to build a strong professional networking profile on your LinkedIn? &nbsp\;Learn how to make a great first impression with your LinkedIn Profile at this YPC event\, followed by networking with fellow young professionals.</div>\n<br />\nJoin&nbsp\;us as we welcome&nbsp\;Pla Phungsoontorn &ndash\; Account Director\, LinkedIn&nbsp\;Singapore on February 27. With almost 6 years at LinkedIn Singapore\, Pla has worked&nbsp\;closely with companies in Thailand\, Malaysia\, Vietnam and Myanmar to provide&nbsp\;strategic advice for companies to be successful on LinkedIn.<br />\n<br />\nFood Menu:<br />\nCrispy Homemade Vegetable Spring Rolls<br />\nSpicy Shrimp Cocktail<br />\nMini Chicken Burger<br />\nMango Cheese Cake With Raspberry<br />\n<br />\nEntrance fee includes finger food\, one free gin &amp\; tonic and one lucky draw entry.<br color:="" font-size:="" open="" />\nAll proceeds benefit the American Chamber of Commerce in Thailand Foundation (ATF) - Adopt-a-School program.
LOCATION:Metro on Wireless at Hotel Indigo 2nd Floor Bangkok Wireless Road BTS Ploenchit
UID:e.3314.1511
SEQUENCE:3
DTSTAMP:20260421T204733Z
URL:https://connect.amchamthailand.com/events/details/ypc-networking-rock-your-linkedin-profile-1511
END:VEVENT

END:VCALENDAR
