BEGIN:VCALENDAR
VERSION:2.0
PRODID:-//ChamberMaster//Event Calendar 2.0//EN
METHOD:PUBLISH
X-PUBLISHED-TTL:P3D
REFRESH-INTERVAL:P3D
CALSCALE:GREGORIAN
BEGIN:VEVENT
DTSTART:20191105T003000Z
DTEND:20191105T020000Z
X-MICROSOFT-CDO-ALLDAYEVENT:FALSE
SUMMARY:Wilbur Ross Breakfast Briefing
DESCRIPTION:Wilbur L. Ross\, Jr.\, U.S. Secretary of Commerce will address AMCHAM during his visit to Bangkok for the Indo Pacific Business Forum.\n\n\n\nInvited guests only from AMCHAM Platinum membership tier\, AMCHAM Board\, and U.S. Government.
X-ALT-DESC;FMTTYPE=text/html:Wilbur L. Ross\, Jr.\, U.S. Secretary of Commerce will address AMCHAM during his visit to Bangkok for the Indo Pacific Business Forum.<br />\n<br />\n<strong>Invited guests only </strong>from AMCHAM Platinum membership tier\, AMCHAM Board\, and U.S. Government.
LOCATION:Movenpick BDMS Wellness Resort
UID:e.3314.417
SEQUENCE:3
DTSTAMP:20260423T085248Z
URL:https://connect.amchamthailand.com/events/details/wilbur-ross-breakfast-briefing-417
END:VEVENT

END:VCALENDAR
