BEGIN:VCALENDAR
VERSION:2.0
PRODID:-//ChamberMaster//Event Calendar 2.0//EN
METHOD:PUBLISH
X-PUBLISHED-TTL:P3D
REFRESH-INTERVAL:P3D
CALSCALE:GREGORIAN
BEGIN:VEVENT
DTSTART:20220309T030000Z
DTEND:20220309T040000Z
X-MICROSOFT-CDO-ALLDAYEVENT:FALSE
SUMMARY:Virtual Membership Meeting with Pichit Virankabutra\, Creative Economy Agency
DESCRIPTION:Creative Economy is recognized by both public and private sectors to be a driving force to create a sustainable and inclusive economic growth. The collaborations from all related industries is needed for the development of the nation's creative economy. Creative Economy Agency (Public Organization) is established in 2018 to support and develop creative economy of Thailand\, enhance entrepreneurs' capacity\, set up an ecosystem to enhance creativity\, and build connections among wisdom\, culture\, and production sectors\, all considered as factors in driving the creative economy.\n\nPlease join us for an exclusive presentation from Mr. Pichit Virankabutra\, Deputy Executive Director of the Creative Economy Agency (CEA) to learn more about the latest updates on the government's policies to enhance the country's creative economy industry\, roles and responsibilities of CEA and collaborations with other agencies\, and learn about key projects\, annual activities\, and potential private sector engagement.\n\n\n\nOur Speaker:\n\nPichit Virankabutra received a Masters of Fine Art from Goldsmith College\, University of London. He was appointed to the position - Deputy Director of the CEA after serving as CEA's Creative City Development Director. He also serving as Graphic Designer & President of Thai Graphic Designers Association since 2017.
X-ALT-DESC;FMTTYPE=text/html:<p>Creative Economy is recognized by both public and private sectors to be a driving force to create a sustainable and inclusive economic growth.&nbsp\;The collaborations from all related industries is needed for the development of the nation&rsquo\;s creative economy.&nbsp\;Creative Economy Agency (Public Organization) is established in 2018 to support and develop creative economy of Thailand\, enhance entrepreneurs&#39\; capacity\, set up an ecosystem to enhance creativity\, and build connections among wisdom\, culture\, and production sectors\, all considered as factors in driving the creative economy.</p>\n\n<p>Please join us for an exclusive presentation from Mr. Pichit Virankabutra\, Deputy Executive Director<font color="#000000" face="arial\, sans-serif"><span style="font-size: 14.6667px\;"> </span></font>of the&nbsp\;Creative Economy Agency&nbsp\;(CEA) to learn more about&nbsp\;the latest updates on&nbsp\;the government&rsquo\;s policies to enhance the country&rsquo\;s creative economy industry\,&nbsp\;roles and responsibilities of CEA and collaborations with other agencies\,&nbsp\;and&nbsp\;learn about key projects\, annual activities\, and potential private sector engagement.<br />\n<br />\nOur Speaker:</p>\n\n<p><a href="https://www.linkedin.com/in/pichit-virankabutra-b3179523/">Pichit Virankabutra</a>&nbsp\;received a Masters of Fine Art from Goldsmith College\, University of London. He was appointed to the position - Deputy Director of the CEA after serving as CEA&#39\;s Creative City Development Director. He also serving as Graphic Designer &amp\; President of Thai Graphic Designers Association since 2017.</p>\n
LOCATION:Online Webinar
UID:e.3314.2147
SEQUENCE:3
DTSTAMP:20260421T052544Z
URL:https://connect.amchamthailand.com/events/details/virtual-membership-meeting-with-pichit-virankabutra-creative-economy-agency-2147
END:VEVENT

END:VCALENDAR
