BEGIN:VCALENDAR
VERSION:2.0
PRODID:-//ChamberMaster//Event Calendar 2.0//EN
METHOD:PUBLISH
X-PUBLISHED-TTL:P3D
REFRESH-INTERVAL:P3D
CALSCALE:GREGORIAN
BEGIN:VEVENT
DTSTART:20190313T040000Z
DTEND:20190313T053000Z
X-MICROSOFT-CDO-ALLDAYEVENT:FALSE
SUMMARY:University of Indianapolis University Briefing
DESCRIPTION:By Invitation
X-ALT-DESC;FMTTYPE=text/html:By Invitation&nbsp\;
LOCATION:AMCHAM Office\, Citi Boardroom
UID:e.3314.186
SEQUENCE:3
DTSTAMP:20260423T221226Z
URL:https://connect.amchamthailand.com/events/details/university-of-indianapolis-university-briefing-186
END:VEVENT

END:VCALENDAR
