BEGIN:VCALENDAR
VERSION:2.0
PRODID:-//ChamberMaster//Event Calendar 2.0//EN
METHOD:PUBLISH
X-PUBLISHED-TTL:P3D
REFRESH-INTERVAL:P3D
CALSCALE:GREGORIAN
BEGIN:VEVENT
DTSTART:20231108T010000Z
DTEND:20231108T030000Z
X-MICROSOFT-CDO-ALLDAYEVENT:FALSE
SUMMARY:Tree Planting and Reception: Marking 190 Years of U.S. - Thai Diplomacy
DESCRIPTION:AMCHAM is honored to welcome U.S. Ambassador Robert Godec and Bangkok Governor Chadchart Sittipunt\, who will preside over our tree-planting ceremony at the Suan Mokkh pavilion in Suan Rot Fai park in commemoration of the 190-year history of U.S.-Thai diplomatic relations.\n\n\n\nJoin us as we embark on an eco-friendly journey in support of the Bangkok Governor's ambitious "One Million Tree Project." Participants will plant 190 trees together\, symbolizing each year of enduring friendship. Together\, we are cultivating a brighter\, more sustainable future.\n\n\n\nWe will also host a special presentation ceremony of the iconic Giant Swing Replica\, "Sao Ching-Cha." This captivating piece of Thai heritage represents the rich cultural tapestry that binds our two nations.\n\n\n\nThis event is part of an ongoing initiative with the Bangkok Metropolitan Administration\, U.S. Embassy and AMCHAM members\, which began with our Independence Day Tree-Planting in June\, hosted at the U.S. Ambassador's Residence. \n\n\n\nAfter this event\, AMCHAM members are invited to build on this initiative at their own homes and offices. We'll be sending members home with additional trees to plant as a symbol of our continued commitment to Thailand. We welcome your participation in the social media campaign by sharing photos from the event on your LinkedIn using #amchamthailand to help raise awareness.\n\n\n\nDress code: Casual\, ready to plant trees.
X-ALT-DESC;FMTTYPE=text/html:<p>AMCHAM is honored to welcome U.S. Ambassador Robert Godec and Bangkok Governor Chadchart Sittipunt\, who will preside over our tree-planting ceremony at the Suan Mokkh pavilion in Suan Rot Fai park<em>&nbsp\;</em>in commemoration of the 190-year history of U.S.-Thai diplomatic relations.<br />\n<br />\nJoin us as we embark&nbsp\;on an eco-friendly journey in support of the Bangkok Governor&#39\;s ambitious &quot\;One Million Tree Project.&quot\; Participants will plant 190 trees together\, symbolizing each year of enduring friendship. Together\, we are cultivating a brighter\, more sustainable future.<br />\n<br />\nWe will also host a special presentation ceremony of the iconic Giant Swing Replica\, &quot\;Sao Ching-Cha.&quot\; This captivating piece of Thai heritage represents the rich cultural tapestry that binds our two nations.<br />\n<br />\nThis event is part of an ongoing&nbsp\;initiative with the Bangkok Metropolitan Administration\, U.S. Embassy and AMCHAM members\, which began&nbsp\;with our Independence Day Tree-Planting in June\, hosted at the U.S. Ambassador&#39\;s Residence.&nbsp\;<br />\n<br />\n<span class="ui-provider ec blf cbr cbs cbt cbu cbv cbw cbx cby cbz cca ccb ccc ccd cce ccf ccg cch cci ccj cck ccl ccm ccn cco ccp ccq ccr ccs cct ccu ccv ccw ccx" dir="ltr">After this event\, AMCHAM members are invited to build on this initiative at their own homes and offices. We&#39\;ll be sending members home with additional trees&nbsp\;to plant as a symbol of our continued commitment to Thailand. We welcome your participation in the social media campaign by sharing photos from the event on your LinkedIn using #amchamthailand to help raise awareness.</span><br />\n<br />\n<em>Dress code: Casual\, ready to plant trees.</em></p>\n
LOCATION:Suan Mokkh Bangkok **Parking is available at Suan Rod Fai
UID:e.3314.2602
SEQUENCE:3
DTSTAMP:20260419T165526Z
URL:https://connect.amchamthailand.com/events/details/tree-planting-and-reception-marking-190-years-of-u-s-thai-diplomacy-2602
END:VEVENT

END:VCALENDAR
