BEGIN:VCALENDAR
VERSION:2.0
PRODID:-//ChamberMaster//Event Calendar 2.0//EN
METHOD:PUBLISH
X-PUBLISHED-TTL:P3D
REFRESH-INTERVAL:P3D
CALSCALE:GREGORIAN
BEGIN:VEVENT
DTSTART:20181026T010000Z
DTEND:20181026T020000Z
X-MICROSOFT-CDO-ALLDAYEVENT:FALSE
SUMMARY:Travel & Tourism Committee Planning Meeting
DESCRIPTION:We invite all interested members to participate in a working meeting to review 2018 accomplishments and set goals and priorities for 2019.  Please attend if you are interested in driving innovative\, topical travel and tourism planning over the coming year.\n\n\n\nIf you are unable to attend\, but are interested in committee leadership possibilities or otherwise have suggestions for the committee\, please contact Sarawan at sarawan@amchamthailand.com.
X-ALT-DESC;FMTTYPE=text/html:We invite all interested members to participate in a working meeting to review 2018 accomplishments and set goals and priorities for 2019.&nbsp\; Please attend if you are interested in driving innovative\, topical travel and tourism planning over the coming year.<br />\n<br />\nIf you are unable to attend\, but are interested in committee leadership possibilities or otherwise have suggestions for the committee\, please contact Sarawan at sarawan@amchamthailand.com.
LOCATION:AMCHAM Office\, Citibank Meeting Room
UID:e.3314.79
SEQUENCE:3
DTSTAMP:20260424T062309Z
URL:https://connect.amchamthailand.com/events/details/travel-tourism-committee-planning-meeting-79
END:VEVENT

END:VCALENDAR
