BEGIN:VCALENDAR
VERSION:2.0
PRODID:-//ChamberMaster//Event Calendar 2.0//EN
METHOD:PUBLISH
X-PUBLISHED-TTL:P3D
REFRESH-INTERVAL:P3D
CALSCALE:GREGORIAN
BEGIN:VEVENT
DTSTART:20200525T080000Z
DTEND:20200525T090000Z
X-MICROSOFT-CDO-ALLDAYEVENT:FALSE
SUMMARY:Trade & Investment Committee: Covid-19 impact on the Thai economy\, thriving in the new normal?
DESCRIPTION:Probably the most significant event we have seen in decades in terms of its global impact\, covid-19 has unprecedentedly upended the way we live\, work\, and play. This year world trade is expected to fall by between 13% and 32% as the pandemic disrupts normal economic activities and supply chains around the globe. Credit markets are still in disarray\, stock markets have plummeted\, and many companies are still grappling with the economic damage. The rapidly intensifying economic effects of covid-19 are proving to be far worse than the 2008-9 financial crisis and could potentially cause an equivalent of 195 million job losses globally. At the same time\, new trends and technologies have emerged strongly out of this\, including the accelerating rise of e-commerce and innovative outsourcing practices.\n\n\n\nHow has Thailand been preparing for this? What risks are involved from economic\, trade and investment perspectives? How is the Royal Thai Government balancing its efforts to address upfront economic shortfalls with long-term economic reform plans? Are businesses well-positioned to cope or even capitalize on these trends to come out stronger than yesterday? Are any sectors or industries at more risk (or better positioned) than others? And most importantly\, is there a silver lining in all this?\n\n\n\nJoin us at the Trade & Investment Committee forum to learn more from our distinguished speaker Dr. Amonthep Chawla\, Head\, Research Office\, CIMB Thai Bank Public Company Limited\, as he shares with us insights into the covid-19 impact on the Thai economy and outlook and discuss the pandemic's implications to Thailand's trade and investment dynamics. Take part in the conversation on what business leaders should be prepared for to adapt and lead their business strategies through opportunities and uncertainties during this time of unprecedented challenge.   \n\n\n\nAgenda:\n\n3.00 pm            Introduction\n\n3.10 pm            Presentation (20-25 mins)\n\n3.30 pm            Q&A\n\n4.00 pm            Close
X-ALT-DESC;FMTTYPE=text/html:Probably the most significant event we have seen in decades in terms of its global impact\, covid-19 has unprecedentedly upended the way we live\, work\, and play. This year world trade is expected to fall by between 13% and 32% as the pandemic disrupts normal economic activities and supply chains around the globe. Credit markets are still in disarray\, stock markets have plummeted\, and many companies are still grappling with the economic damage. The rapidly intensifying economic effects of covid-19 are proving to be far worse than the 2008-9 financial crisis and could potentially cause an equivalent of 195 million job losses globally. At the same time\, new trends and technologies have emerged strongly out of this\, including the accelerating rise of e-commerce and innovative outsourcing practices.<br />\n<br />\nHow has Thailand been preparing for this? What risks are involved from economic\, trade and investment perspectives? How is the Royal Thai Government balancing its efforts to address upfront economic shortfalls with long-term economic reform plans? Are businesses well-positioned to cope or even capitalize on these trends to come out stronger than yesterday? Are any sectors or industries at more risk (or better positioned) than others? And most importantly\, is there a silver lining in all this?<br />\n<br />\nJoin us at the Trade &amp\; Investment Committee forum to learn more from our distinguished speaker <a href="https://secure2.chambermaster.com/mic/Resources/Download/234?memId=-1&amp\;repId=60086&amp\;micVersion=4">Dr. Amonthep Chawla</a>\, Head\, Research Office\, CIMB Thai Bank Public Company Limited\, as he shares with us insights into the covid-19 impact on the Thai economy and outlook and discuss the pandemic&rsquo\;s implications to Thailand&rsquo\;s trade and investment dynamics. Take part in the conversation on what business leaders should be prepared for to adapt and lead their business strategies through opportunities and uncertainties during this time of unprecedented challenge.&nbsp\;&nbsp\;&nbsp\;<br />\n<br />\n<strong>Agenda:</strong><br />\n3.00 pm&nbsp\;&nbsp\;&nbsp\;&nbsp\;&nbsp\;&nbsp\; &nbsp\;&nbsp\;&nbsp\;&nbsp\; Introduction<br />\n3.10 pm&nbsp\;&nbsp\;&nbsp\;&nbsp\;&nbsp\;&nbsp\;&nbsp\;&nbsp\;&nbsp\;&nbsp\;&nbsp\; Presentation (20-25 mins)<br />\n3.30 pm&nbsp\;&nbsp\;&nbsp\;&nbsp\;&nbsp\;&nbsp\; &nbsp\;&nbsp\;&nbsp\;&nbsp\; Q&amp\;A<br />\n4.00 pm&nbsp\;&nbsp\;&nbsp\;&nbsp\;&nbsp\;&nbsp\; &nbsp\;&nbsp\;&nbsp\;&nbsp\; Close
LOCATION:Video conference Meeting
UID:e.3314.1610
SEQUENCE:3
DTSTAMP:20260422T222525Z
URL:https://connect.amchamthailand.com/events/details/trade-investment-committee-covid-19-impact-on-the-thai-economy-thriving-in-the-new-normal-1610
END:VEVENT

END:VCALENDAR
