BEGIN:VCALENDAR
VERSION:2.0
PRODID:-//ChamberMaster//Event Calendar 2.0//EN
METHOD:PUBLISH
X-PUBLISHED-TTL:P3D
REFRESH-INTERVAL:P3D
CALSCALE:GREGORIAN
BEGIN:VEVENT
DTSTART:20220301T080000Z
DTEND:20220301T120000Z
X-MICROSOFT-CDO-ALLDAYEVENT:FALSE
SUMMARY:Thailand Tourism Forum 2022
DESCRIPTION:Click here to register. \n\n\n\nThailand Tourism Forum 2022\n\n11th Annual Edition\n\n\n\nThailand's largest annual hotel  industry  event is  back\,  and  ready  for  change.  Crisis\,  opportunity\,  threats  and disruption  continue  to  create  a  volatile  marketplace.  Now  is  the  time  to innovate\,  adapt and re-create our business models. Come and listen to the voices of tomorrow as we take a critical look at why the industry has to adapt to an entirely new business model\, and how to do it. This is an event where Thailand's tourism industry stands united. It's an opportunity to meet industry leaders and peers\, to explore and learn and be a part of our next step forward in 2022. TTF 2022 remains a unique high energy 'in person' event and will not be broadcast live nor as a hybrid.\n\n\n\nAttendance is complimentary. Advance registration is required and only those with confirmed Eventbrite registration QR codes along with supporting documentation for at least two (2) vaccinations will be allowed entry. Registered delegates are also requested to follow SHA guidelines. \n\n\n\nEvent Schedule\n\n\n\n3 pm onwards\n\n	Registration Open\n\n\n\n4 pm to 5:30pm\n\n	Thailand Tourism Forum 2022 'What Tourism Can Learn from Diehard' Bill Barnett\, Managing Director\, C9 Hotelworks\n	'Why Hotel Operators Must Change  A Conversation' Clarence Tan\, Senior Vice President Development\, Hilton Hotels and Resorts Charles Blocker\, CEO\, IC Partners Limited\n	'Got Numbers\, Now What?' Jesper Palmqvist\, Area Director  Asia Pacific\, STR\n	'Thailand's Hotel Transactions How to Make A Deal Work' Chakkrit Chakrabandhu Na Ayudhya\, EVP\,JLL Hotels & Hospitality Group Pitinut Pupatwibul Robbins\, Senior Vice President\, JLL Hotels & Hospitality Group\n	'Going Local-How Can Travel Give Back' Aliza Napartivaumnuay\, CEO\, Socialgiver\n	'New Family Office Next Generation of Hotel Owners Speak Out' Nikhom Jensiriratanakorn\, Director-Thailand\, Horwath HTL Bodintorn Juangroongruangkit\, CEO\, Real Asset Development Satita Viddayakorn\, Deputy Managing Director\, V Brilliant Group\n	'Hybrid Spaces Jumping Out of the Box' Catherine Monthienvichienchai\, Brand Strategy Leader\, QUO\n	'Crypto for Hospitality' Akalarp Yimwilai\, CEO(Thailand) and Co-Founder\, Zipmex Viona Zhang\, Assistant Vice President\, C9 Hotelworks\n	'Green Thailand Lessons in Sustainable Tourism' Jakkrapong Chinkrathok\, CEO and Founder\, Find Folk\n	'Behind the Mask  A Totally New Travel Experience' Wimintra Jangnin\, Editor in Chief\, Hotel Intel\n	Wrap-Up and Closing Remarks Event Co-Hosts Krongsak Bonn Paramacharoenroj\, Hospitality Futurist Nantanittaya Sesaweech\, Assistant Managing Director\, Horizon Village& Resort\n\n5:30 pm to 7 pm\n\n\n	Networking Cocktails  with compliments of Hilton Worldwide\n\n \n\n\n	Special Promotion Hotel Rates for TTF 2022Delegates:Conrad Hotel Bangkok: TTF 2022\n	Post Event Videos: The organizer intends upon videotaping TTF 2022 for rebroadcast over social media and will be available shortly after the event\; there will be no live broadcast. A link will be provided to you and to the broader public via email and social media. TTF 2022 speaker presentations will be available on both the AMCHAM-Thailand (www.amchamthailand.com) and Thailand Tourism Forum (www.thailandtourismforum.com) websites.\n	Unique QR Code: Eventbrite Ticketing TTF 2022 will again use Eventbrite for event registration\, ticketing and access. Only registered and confirmed delegates having an official Eventbrite ticket will be granted entry to TTF 2022. Eventbrite tickets will have a unique user QR code which must be presented for scanning on your smartphone or in paper form upon entry. There will be no exceptions\; no ticket\, no entry. The Eventbrite ticket will help to ensure delegates safe access and mobility at the event. Note: To comply with SHA guidelines\, seating at this year's TTF is limited to just 480personsthis year.\n	Proof of Two (2)Vaccine Doses: Every registered delegate\, speaker\, support staff and hotel staff must present a certificate of Covid-19 vaccination approved by authorized organization in the country of origin. Given Covid-19 vaccines must be approved by WHO or Thai FDA. Approved vaccines include: SinoVac\, AstraZeneca/Oxford\, Pfizer/BioNTech\, Janssen Pharmaceutical\, Moderna\, Sinopharm\, and or Sputnik V.\n	Important Event Logistics/Access: Delegates may enter TTF 2022 either by using the Conrad Hotel's main entrance at the south side of the building or the ballroom entrance along Soi Rumrudee. The organizer would appreciate your using the ballroom entrance along Soi Rumrudee. Your unique TTF 2022 Eventbrite ticket will provide you important information and access to your pre-assigned pre-function area\, designated seat in the event hall and the respective reception areas following TTF.\n	SHA Compliance: The venue for the Thailand Tourism Forum 2022 is the Conrad Hotel Bangkok which is an SHA Extra Plus certified and complaint hotel. Registrants to TTF 2022are required to follow the Thailand Safety and Health Administration (SHA) guidelines which require appropriate social distancing at all times at the event as well as a temperature check upon entering event area at Conrad Hotel and the wearing of a face mask until settled in your designated area(s) among other SHA Extra Plus guidelines. Please review-https://web.thailandsha.com/index
X-ALT-DESC;FMTTYPE=text/html:<strong><span style="font-size:18px\;"><a href="https://www.eventbrite.com/e/thailand-tourism-forum-2022-11th-annual-edition-tickets-230713318747"><em>Click here to register.&nbsp\;</em></a></span><br />\n<br />\nThailand Tourism Forum 2022<br />\n11th Annual Edition</strong><br />\n<br />\nThailand&rsquo\;s largest annual hotel&nbsp\; industry&nbsp\; event is&nbsp\; back\,&nbsp\; and&nbsp\; ready&nbsp\; for&nbsp\; change.&nbsp\; Crisis\,&nbsp\; opportunity\,&nbsp\; threats&nbsp\; and disruption&nbsp\; continue&nbsp\; to&nbsp\; create&nbsp\; a&nbsp\; volatile&nbsp\; marketplace.&nbsp\; Now&nbsp\; is&nbsp\; the&nbsp\; time&nbsp\; to innovate\,&nbsp\; adapt and re-create our business models. Come and listen to the voices of tomorrow as we take a critical look at why the industry has to adapt to an entirely new business model\, and how to do it. This is an event where Thailand&rsquo\;s tourism industry stands united. It&rsquo\;s an opportunity to meet industry leaders and peers\, to explore and learn and be a part of our next step forward in 2022. TTF 2022 remains a unique high energy &lsquo\;in person&rsquo\; event and will not be broadcast live nor as a hybrid.<br />\n<br />\nAttendance is complimentary. <strong><em>Advance registration is r</em>equired and </strong><em><strong>only those with confirmed Eventbrite registration QR codes along with supporting documentation for at least two (2) vaccinations will be allowed entry.</strong>&nbsp\;</em>Registered delegates are also requested to follow SHA guidelines.&nbsp\;<br />\n<br />\n<strong>Event Schedule</strong><br />\n<br />\n3 pm onwards\n<ul>\n	<li>Registration Open</li>\n</ul>\n<br />\n4 pm to 5:30pm\n<ul>\n	<li><em>Thailand Tourism Forum 2022 &lsquo\;What Tourism Can Learn from Diehard&rsquo\;</em> Bill Barnett\, Managing Director\, C9 Hotelworks</li>\n	<li><em>&lsquo\;Why Hotel Operators Must Change &ndash\;A Conversation&rsquo\;</em> Clarence Tan\, Senior Vice President Development\, Hilton Hotels and Resorts Charles Blocker\, CEO\, IC Partners Limited</li>\n	<li><em>&lsquo\;Got Numbers\, Now What?&rsquo\; </em>Jesper Palmqvist\, Area Director &ndash\;Asia Pacific\, STR</li>\n	<li><em>&lsquo\;Thailand&rsquo\;s Hotel Transactions&ndash\;How to Make A Deal Work&rsquo\; </em>Chakkrit Chakrabandhu Na Ayudhya\, EVP\,JLL Hotels &amp\; Hospitality Group Pitinut Pupatwibul Robbins\, Senior Vice President\, JLL Hotels &amp\; Hospitality Group</li>\n	<li><em>&lsquo\;Going Local-How Can Travel Give Back&rsquo\; </em>Aliza Napartivaumnuay\, CEO\, Socialgiver</li>\n	<li><em>&lsquo\;New Family Office&ndash\;Next Generation of Hotel Owners Speak Out&rsquo\; </em>Nikhom Jensiriratanakorn\, Director-Thailand\, Horwath HTL Bodintorn Juangroongruangkit\, CEO\, Real Asset Development Satita Viddayakorn\, Deputy Managing Director\, V Brilliant Group</li>\n	<li><em>&#39\;Hybrid Spaces&ndash\;Jumping Out of the Box&#39\; </em>Catherine Monthienvichienchai\, Brand Strategy Leader\, QUO</li>\n	<li><em>&lsquo\;Crypto for Hospitality</em>&rsquo\; Akalarp Yimwilai\, CEO(Thailand) and Co-Founder\, Zipmex Viona Zhang\, Assistant Vice President\, C9 Hotelworks</li>\n	<li><em>&lsquo\;Green Thailand&ndash\;Lessons in Sustainable Tourism&rsquo\; </em>Jakkrapong Chinkrathok\, CEO and Founder\, Find Folk</li>\n	<li><em>&lsquo\;Behind the Mask &ndash\;A Totally New Travel Experience&rsquo\;</em> Wimintra Jangnin\, Editor in Chief\, Hotel Intel</li>\n	<li><em>Wrap-Up and Closing Remarks </em>Event Co-Hosts Krongsak Bonn Paramacharoenroj\, Hospitality Futurist Nantanittaya Sesaweech\, Assistant Managing Director\, Horizon Village&amp\; Resort</li>\n</ul>\n5:30 pm to 7 pm\n\n<ul>\n	<li>Networking Cocktails &ndash\;with compliments of Hilton Worldwide</li>\n</ul>\n&nbsp\;\n\n<ul>\n	<li><u><strong>Special Promotion Hotel Rates for TTF 2022Delegates</strong>:</u>Conrad Hotel Bangkok: TTF 2022</li>\n	<li><u><strong>Post Event Videos:</strong></u> The organizer intends upon videotaping TTF 2022 for rebroadcast over social media and will be available shortly after the event\; there will be no live broadcast. A link will be provided to you and to the broader public via email and social media. TTF 2022 speaker presentations will be available on both the AMCHAM-Thailand (www.amchamthailand.com) and Thailand Tourism Forum (www.thailandtourismforum.com) websites.</li>\n	<li><u><strong>Unique QR Code:</strong></u><strong>&nbsp\;</strong>Eventbrite Ticketing TTF 2022 will again use Eventbrite for event registration\, ticketing and access. Only registered and confirmed delegates having an official Eventbrite ticket will be granted entry to TTF 2022. Eventbrite tickets will have a unique user QR code which must be presented for scanning on your smartphone or in paper form upon entry. There will be no exceptions\; no ticket\, no entry. The Eventbrite ticket will help to ensure delegates safe access and mobility at the event. Note: To comply with SHA guidelines\, seating at this year&rsquo\;s TTF is limited to just 480personsthis year.</li>\n	<li><u><strong>Proof of Two (2)Vaccine Doses:</strong></u> Every registered delegate\, speaker\, support staff and hotel staff must present a certificate of Covid-19 vaccination approved by authorized organization in the country of origin. Given Covid-19 vaccines must be approved by WHO or Thai FDA. Approved vaccines include: SinoVac\, AstraZeneca/Oxford\, Pfizer/BioNTech\, Janssen Pharmaceutical\, Moderna\, Sinopharm\, and or Sputnik V.</li>\n	<li><u><strong>Important Event Logistics/Access:</strong></u> Delegates may enter TTF 2022 either by using the Conrad Hotel&rsquo\;s main entrance at the south side of the building or the ballroom entrance along Soi Rumrudee. The organizer would appreciate your using the ballroom entrance along Soi Rumrudee. Your unique TTF 2022 Eventbrite ticket will provide you important information and access to your pre-assigned pre-function area\, designated seat in the event hall and the respective reception areas following TTF.</li>\n	<li><u><strong>SHA Compliance:</strong></u> The venue for the Thailand Tourism Forum 2022 is the Conrad Hotel Bangkok which is an SHA Extra Plus certified and complaint hotel. Registrants to TTF 2022are required to follow the Thailand Safety and Health Administration (SHA) guidelines which require appropriate social distancing at all times at the event as well as a temperature check upon entering event area at Conrad Hotel and the wearing of a face mask until settled in your designated area(s) among other SHA Extra Plus guidelines. Please review-https://web.thailandsha.com/index</li>\n</ul>\n
LOCATION:
UID:e.3314.2149
SEQUENCE:3
DTSTAMP:20260421T051306Z
URL:https://connect.amchamthailand.com/events/details/thailand-tourism-forum-2022-2149
END:VEVENT

END:VCALENDAR
