BEGIN:VCALENDAR
VERSION:2.0
PRODID:-//ChamberMaster//Event Calendar 2.0//EN
METHOD:PUBLISH
X-PUBLISHED-TTL:P3D
REFRESH-INTERVAL:P3D
CALSCALE:GREGORIAN
BEGIN:VEVENT
DTSTART:20200617T080000Z
DTEND:20200617T090000Z
X-MICROSOFT-CDO-ALLDAYEVENT:FALSE
SUMMARY:Thailand Tourism Forum 2020 - Bangkok Edition
DESCRIPTION:REGISTER HERE\n\n\n\nThailand's Mega Travel and Tourism Gateway Marketplace   'Temperature Check'\n\n \n\nBangkok is one of the world's leading travel gateways. Its value to 'Brand Thailand' is the face of a nation.\n\n\n\nDuring the current global pandemic\, travel\, tourism and hotels have been dramatically impacted. This special edition of TTF is a much needed temperature check for the industry. Join us of as part of a developing storyline of how Bangkok will reopen travel and what hotels can do in these times of crisis.\n\n\n\n'Bend Don't Break. Bangkok here and now.'\n\nBill Barnett\, Managing Director\, C9 Hotelworks \n\n               \n\n'The Conversation. Thailand hotels talk back.'\n\nDavid Johnson\, Managing Director\, Delivering Asia Communications\n\nThirayuth Chirathivat\, CEO\, Centara Hotels & Resorts\n\n \n\n'By the Numbers. Deep into the early trends of market reopening.' \n\nJesper Palmqvist\, Area Director   Asia Pacific\, STR\n\n \n\n'Return of International Flights   Certifications\, Quarantines\, Reciprocity.'\n\nCharles Blocker\, CEO\, IC Partners Limited\n\n \n\n'Love Amongst the Ruins. Operator and OTA relations and the future of distribution.' \n\nRobert Hecker\, Managing Director-Pacific Asia\, Horwath HTL\n\nTwo Special Guests\n\n  \n\nBuy. Sell. Hold. Investment trends\, cap rates and shifting values from ground zero.\n\nNihat Can Ercan\, MD\, Head of Investment Sales Asia - JLL's Hotels & Hospitality Group\n\n \n\n'Bang the Drum. 2020's domesticated hospitality consumer.'\n\nDavid Keen\, CEO\, QUO\n\n \n\n'Operators and lenders... got the Fever or Chilled?'\n\nEric Levy\, Managing Director\, Tourism Solutions International (TSI)\n\n \n\n'Analyze This. A financial primer for Bangkok hotel owners.'\n\nNikhom Jensiriratanakorn\, Director-Thailand\, Horwath HTL\n\n \n\n'My Bangkok. Thainess rules.'\n\nWimintra Jangnin\, Editor in Chief\, Hotel Intel\n\n \n\nQuestions & Answers
X-ALT-DESC;FMTTYPE=text/html:<br />\n<strong><a href="http://us02web.zoom.us/webinar/register/WN_EDxueI9YS8GVHm4OskQLlA"><span style="color:#B22222\;"><span style="font-size:16px\;">REGISTER HERE</span></span></a><br />\n<br />\nThailand&rsquo\;s Mega Travel and Tourism Gateway Marketplace &ndash\; &lsquo\;<em>Temperature Check&rsquo\;</em></strong><br />\n&nbsp\;<br />\nBangkok is one of the world&rsquo\;s leading travel gateways. Its value to &lsquo\;Brand Thailand&rsquo\; is the face of a nation.<br />\n<br />\nDuring the current global pandemic\, travel\, tourism and hotels have been dramatically impacted. This special edition of TTF is a much needed temperature check for the industry. Join us of as part of a developing storyline of how Bangkok will reopen travel and what hotels can do in these times of crisis.<br />\n<br />\n<strong><u>&lsquo\;</u></strong><strong><u>Bend Don&rsquo\;t Break. Bangkok here and now.</u></strong><strong><u>&rsquo\;</u></strong><br />\n<strong>Bill Barnett\, </strong>Managing Director\, C9 Hotelworks&nbsp\;<br />\n&nbsp\;&nbsp\;&nbsp\;&nbsp\;&nbsp\;&nbsp\;&nbsp\;&nbsp\;&nbsp\;&nbsp\;&nbsp\;&nbsp\;&nbsp\;&nbsp\;&nbsp\;<br />\n<strong><u>&lsquo\;The Conversation. Thailand hotels talk back.&rsquo\;</u></strong><br />\n<strong>David Johnson</strong>\, Managing Director\, Delivering Asia Communications<br />\n<strong>Thirayuth Chirathivat</strong>\, CEO\, Centara Hotels &amp\; Resorts<br />\n&nbsp\;<br />\n<strong><u>&lsquo\;By the Numbers. Deep into the early trends of market reopening.&rsquo\; </u></strong><br />\n<strong>Jesper Palmqvist</strong>\, Area Director &ndash\; Asia Pacific\, STR<br />\n&nbsp\;<br />\n<strong><u>&lsquo\;Return of </u></strong><strong><u>International Flights &ndash\; Certifications\, Quarantines\, Reciprocity.</u></strong><strong><u>&rsquo\;</u></strong><br />\n<strong>Charles Blocker\,</strong> CEO\, IC Partners Limited<br />\n&nbsp\;<br />\n<strong><u>&lsquo\;Love Amongst the Ruins. Operator and OTA relations and the future of distribution.&rsquo\; </u></strong><br />\n<strong>Robert Hecker</strong>\, Managing Director-Pacific Asia\, Horwath HTL<br />\nTwo Special Guests<br />\n&nbsp\;&nbsp\;<br />\n<strong><u>Buy. Sell. Hold. Investment trends\, cap rates and shifting values from ground zero.</u></strong><br />\n<strong>Nihat Can Ercan</strong>\, MD\, Head of Investment Sales Asia - JLL&#39\;s Hotels &amp\; Hospitality Group<br />\n&nbsp\;<br />\n<strong><u>&lsquo\;Bang the Drum. 2020&rsquo\;s domesticated hospitality consumer.&rsquo\;</u></strong><br />\n<strong>David Keen\, </strong>CEO\, QUO<br />\n&nbsp\;<br />\n<strong><u>&lsquo\;Operators and lenders... got the Fever or Chilled?&rsquo\;</u></strong><br />\n<strong>Eric Levy</strong>\, Managing Director\, Tourism Solutions International (TSI)<br />\n&nbsp\;<br />\n<strong><u>&lsquo\;Analyze This. A financial primer for Bangkok hotel owners.&rsquo\;</u></strong><br />\n<strong>Nikhom Jensiriratanakorn</strong>\, Director-Thailand\, Horwath HTL<br />\n&nbsp\;<br />\n<strong><u>&lsquo\;My Bangkok. Thainess rules.&rsquo\;</u></strong><br />\n<strong>Wimintra Jangnin</strong>\, Editor in Chief\, Hotel Intel<br />\n&nbsp\;<br />\n<strong><u>Questions &amp\; Answers</u></strong><br />\n&nbsp\;<br />\n&nbsp\;
LOCATION:Online Webinar\, broadcast from The Rosewood Bangkok
UID:e.3314.1629
SEQUENCE:3
DTSTAMP:20260422T200957Z
URL:https://connect.amchamthailand.com/events/details/thailand-tourism-forum-2020-bangkok-edition-1629
END:VEVENT

END:VCALENDAR
