BEGIN:VCALENDAR
VERSION:2.0
PRODID:-//ChamberMaster//Event Calendar 2.0//EN
METHOD:PUBLISH
X-PUBLISHED-TTL:P3D
REFRESH-INTERVAL:P3D
CALSCALE:GREGORIAN
BEGIN:VEVENT
DTSTART:20200106T070000Z
DTEND:20200106T083000Z
X-MICROSOFT-CDO-ALLDAYEVENT:FALSE
SUMMARY:Temple University-Fox School of Business Briefing
DESCRIPTION:Private briefing
X-ALT-DESC;FMTTYPE=text/html:Private briefing
LOCATION:
UID:e.3314.385
SEQUENCE:3
DTSTAMP:20260423T071921Z
URL:https://connect.amchamthailand.com/events/details/temple-university-fox-school-of-business-briefing-385
END:VEVENT

END:VCALENDAR
