BEGIN:VCALENDAR
VERSION:2.0
PRODID:-//ChamberMaster//Event Calendar 2.0//EN
METHOD:PUBLISH
X-PUBLISHED-TTL:P3D
REFRESH-INTERVAL:P3D
CALSCALE:GREGORIAN
BEGIN:VEVENT
DTSTART:20181213T050000Z
DTEND:20181213T063000Z
X-MICROSOFT-CDO-ALLDAYEVENT:FALSE
SUMMARY:TBC: Legal Committee
DESCRIPTION:You are invited to the Legal Committee's 2019 Planning Session.\n\n \n\nInput from members is always appreciated. We strongly encourage all members to attend. If you cannot attend but would like to submit  ideas for programs in 2019\, kindly send an email to pen@amchamthailand.com with a copy to the Legal Committee's Chair\, Douglas Mancill\, at dmancill@pricesanond.com.
X-ALT-DESC;FMTTYPE=text/html:You are invited to the Legal Committee&#39\;s 2019 Planning Session.<br />\n&nbsp\;<br />\nInput from members is always appreciated.&nbsp\;We strongly encourage all members to attend. If you cannot attend but would like to submit&nbsp\; ideas for programs in 2019\, kindly send an email to pen@amchamthailand.com&nbsp\;with a copy to the Legal Committee&#39\;s Chair\, Douglas Mancill\, at&nbsp\;dmancill@pricesanond.com.
LOCATION:AMCHAM Office\, Citi Boardroom (GPF Witthayu\, 7th Floor) Nearest BTS: Ploenchit
UID:e.3314.356
SEQUENCE:3
DTSTAMP:20260424T030231Z
URL:https://connect.amchamthailand.com/events/details/tbc-legal-committee-356
END:VEVENT

END:VCALENDAR
