BEGIN:VCALENDAR
VERSION:2.0
PRODID:-//ChamberMaster//Event Calendar 2.0//EN
METHOD:PUBLISH
X-PUBLISHED-TTL:P3D
REFRESH-INTERVAL:P3D
CALSCALE:GREGORIAN
BEGIN:VEVENT
DTSTART:20200819T030000Z
DTEND:20200819T040000Z
X-MICROSOFT-CDO-ALLDAYEVENT:FALSE
SUMMARY:Tax Committee: U.S. Tax Planning - Why Invest in Thai & Offshore Funds
DESCRIPTION:Are you a U.S. citizen who holds investments in a Thai provident fund as part of your compensation packages? Or do you hold investments in financial products such as LTFs and RMFs? Or perhaps you've participated in an offshore savings plan from companies such as: Friends Provident International\, Hansard International\, Old Mutual International\, Skandia\, Zurich\, Generali\, or RL360.\n\n \n\nIf so\, you are a shareholder in a Passive Foreign Investment Corporation (PFIC)\, which has different U.S. tax reporting requirements\, and can incur significant tax liabilities if not properly handled. Although it's generally advisable for U.S. taxpayers to steer clear of PFICs\, there are specific situations where they can make financial sense.\n\n\n\nJoin us for our deep dive into the U.S. income tax implications for shareholders of PFICs. Learn which of these investments can be useful\, and how best to report them on your U.S. 1040 to avoid creating tax problems for yourself later.\n\n\n\n\n\nAbout the Speakers:\n\n\n\nMatthew Stevens is Director of Taxation at Global U.S. Tax Plan\, an independent accounting firm helping U.S. citizens throughout Asia remain compliant with U.S. tax code. \n\n\n\nPeggy Creveling is Executive Director of Creveling & Creveling\, a private wealth advisory firm that specializes in helping expatriates living in Thailand and throughout Southeast Asia. Previously she has held management positions at Citigroup\, Salomon Smith Barney\, and Paribas Asia Equity. Peggy holds the CFA and CFP   (US) designations\, and graduated with a B.S. in Economics (Mathematical) from West Point.
X-ALT-DESC;FMTTYPE=text/html:Are you a U.S. citizen who holds investments in a Thai provident fund as part of your compensation packages? Or do you hold investments in financial products such as LTFs and RMFs? Or perhaps you&#39\;ve participated in an offshore savings plan from companies such as:&nbsp\;Friends Provident International\,&nbsp\;Hansard International\,&nbsp\;Old Mutual International\, Skandia\,&nbsp\;Zurich\,&nbsp\;Generali\, or&nbsp\;RL360.<br />\n&nbsp\;<br />\nIf so\, you are a shareholder in a Passive Foreign Investment Corporation (PFIC)\, which has different U.S. tax reporting requirements\, and can incur significant tax liabilities if not properly handled. Although it&rsquo\;s generally advisable for U.S. taxpayers to steer clear of PFICs\, there are specific situations where they can make financial sense.<br />\n<br />\nJoin us for our deep dive into the U.S. income tax implications for shareholders of PFICs. Learn which of these investments can be useful\, and how best to report them on your U.S. 1040 to avoid creating tax problems for yourself later.<br />\n<br />\n<br />\n<strong>About the Speakers:</strong><br />\n<br />\n<a href="https://www.linkedin.com/in/matthew-stevens-aa802582">Matthew Stevens</a>&nbsp\;is Director of Taxation at Global U.S. Tax Plan\, an independent accounting firm helping U.S. citizens throughout Asia remain compliant with U.S. tax code.&nbsp\;<br />\n<br />\n<a href="https://www.linkedin.com/in/peggycreveling/">Peggy Creveling</a>&nbsp\;is Executive Director of Creveling &amp\; Creveling\, a private wealth advisory firm that specializes in helping expatriates living in Thailand and throughout Southeast Asia. Previously she has held management positions at Citigroup\,&nbsp\;Salomon&nbsp\;Smith Barney\, and&nbsp\;Paribas Asia Equity. Peggy&nbsp\;holds the CFA and CFP&reg\; &nbsp\;(US) designations\, and graduated with a B.S. in Economics&nbsp\;(Mathematical)&nbsp\;from West Point.
LOCATION:Online Video Conference
UID:e.3314.1654
SEQUENCE:3
DTSTAMP:20260421T231320Z
URL:https://connect.amchamthailand.com/events/details/tax-committee-why-invest-in-thai-offshore-funds-1654
END:VEVENT

END:VCALENDAR
