BEGIN:VCALENDAR
VERSION:2.0
PRODID:-//ChamberMaster//Event Calendar 2.0//EN
METHOD:PUBLISH
X-PUBLISHED-TTL:P3D
REFRESH-INTERVAL:P3D
CALSCALE:GREGORIAN
BEGIN:VEVENT
DTSTART:20191107T073000Z
DTEND:20191107T100000Z
X-MICROSOFT-CDO-ALLDAYEVENT:FALSE
SUMMARY:Tax Committee: U.S. Tax Filing for 2019 - What You Need to Know
DESCRIPTION:For U.S. citizens living abroad\, tax season inevitably brings questions and headaches\, particularly in light of the changes introduced over the last year and a half.\n\n \n\nBring your questions to the 2019 AMCHAM U.S. Tax Filing Updates. Led by the AMCHAM Tax Committee\, this session is an invaluable primer for the issues you need to consider for your 2019 year-end tax planning and tax reporting. Topics will include lessons learned after the first year of tax filing after the passage of the Tax Cuts and Jobs Act (TCJA) of 2017:\n\n\n	For many individuals\, it's now better to take Foreign Tax Credit than the Foreign Earned Income Exclusion - find out if this is true for you.\n	For U.S. business owners\, we'll have updates on GILTI and the other changes that have impacted U.S. corporations abroad.\n\n\n \n\nOur presenters are:\n\n\n	Jonathan Blaine\, Director\, DFDL Thailand \n	Matthew Stevens\, Director\, US Global Tax Plan Limited\n\n\n \n\nIf you or a family member is a U.S. taxpayer\, this is your opportunity to learn about key tax issues that affect you. We hope you join us for what is always a lively and interesting discussion.
X-ALT-DESC;FMTTYPE=text/html:<div><span style="font-size: 13px\;">For U.S. citizens living abroad\, tax season inevitably brings questions and headaches\, particularly in light of the changes introduced over the last year and a half.</span></div>\n\n<div>&nbsp\;</div>\n\n<div><span style="font-size: 13px\;">Bring your questions to the 2019 AMCHAM U.S. Tax Filing Updates. Led by the AMCHAM Tax Committee\, this session is an invaluable primer for the issues you need to consider for your 2019 year-end tax planning and tax reporting. Topics will include lessons learned after the first year of tax filing after the passage of the Tax Cuts and Jobs Act (TCJA) of 2017:</span></div>\n\n<ul>\n	<li>For many individuals\, it&#39\;s now better to take&nbsp\;Foreign Tax Credit than the Foreign Earned Income Exclusion - find out if this is true for you.</li>\n	<li>For U.S. business owners\, we&#39\;ll have updates on GILTI and the other changes that have impacted U.S. corporations abroad.</li>\n</ul>\n\n<div>&nbsp\;</div>\n\n<div><span style="font-size: 13px\;">Our presenters are:</span></div>\n\n<ul>\n	<li><span style="font-size: 13px\;"><a href="https://www.dfdl.com/locations/thailand/thailand-team/jonathan-blaine/"><strong>Jonathan Blaine</strong></a>\, Director\, DFDL Thailand&nbsp\;</span></li>\n	<li><span style="font-size: 13px\;"><a href="https://connect.amchamthailand.com/list/Member/u-s-global-tax-plan-limited-3422"><strong>Matthew Stevens</strong></a>\, Director\, US Global Tax Plan Limited</span></li>\n</ul>\n\n<div>&nbsp\;</div>\n\n<div>If you or a family member is a U.S. taxpayer\, this is your opportunity to learn about key tax issues that affect you.&nbsp\;<span style="font-size: 13px\;">We hope you join us for what is always a lively and interesting discussion.</span></div>\n
LOCATION:Oriental Residence BTS: Ploenchit
UID:e.3314.390
SEQUENCE:3
DTSTAMP:20260423T092455Z
URL:https://connect.amchamthailand.com/events/details/tax-committee-u-s-tax-filing-for-2019-what-you-need-to-know-390
END:VEVENT

END:VCALENDAR
