BEGIN:VCALENDAR
VERSION:2.0
PRODID:-//ChamberMaster//Event Calendar 2.0//EN
METHOD:PUBLISH
X-PUBLISHED-TTL:P3D
REFRESH-INTERVAL:P3D
CALSCALE:GREGORIAN
BEGIN:VEVENT
DTSTART:20230915T020000Z
DTEND:20230915T030000Z
X-MICROSOFT-CDO-ALLDAYEVENT:FALSE
SUMMARY:Tax Committee: Recent Court Cases in Tax
DESCRIPTION:The AMCHAM Tax Committee invites you to join their quarterly meeting\, where committee leaders and members share knowledge and ask questions on emerging tax issues that affect companies doing business in Thailand or regionally. These meetings are also the forum for members to identify key issues of concern for engagement with the Revenue Department.\n\n\n\nLeaders will provide brief updates on the following topics before opening the floor for discussion:\n\n	Recent court cases and Revenue Department Rulings - Jonathan Blaine\, DFDL\n	BEPS 2.0 Pillar 2 - John Andes\, KPMG\n\nWe look forward to your participation in what promises to be an engaging conversation with the business community's leading tax experts.
X-ALT-DESC;FMTTYPE=text/html:The AMCHAM Tax Committee invites you to join their quarterly meeting\, where committee leaders and members share knowledge and ask questions on emerging tax issues that affect companies doing business in Thailand or regionally. These meetings are also the forum for members to identify key issues of concern for engagement with the Revenue Department.<br />\n<br />\nLeaders will provide brief updates on the following topics before opening the floor for discussion:\n<ul>\n	<li>Recent court cases and Revenue Department Rulings - Jonathan Blaine\, DFDL</li>\n	<li>BEPS 2.0 Pillar 2 - John Andes\, KPMG</li>\n</ul>\nWe look forward to your participation in what promises to be an engaging conversation with the business community&#39\;s leading tax experts.
LOCATION:Video conference
UID:e.3314.2619
SEQUENCE:3
DTSTAMP:20260419T204254Z
URL:https://connect.amchamthailand.com/events/details/tax-committee-recent-court-cases-in-tax-2619
END:VEVENT

END:VCALENDAR
