BEGIN:VCALENDAR
VERSION:2.0
PRODID:-//ChamberMaster//Event Calendar 2.0//EN
METHOD:PUBLISH
X-PUBLISHED-TTL:P3D
REFRESH-INTERVAL:P3D
CALSCALE:GREGORIAN
BEGIN:VEVENT
DTSTART:20210629T030000Z
DTEND:20210629T040000Z
X-MICROSOFT-CDO-ALLDAYEVENT:FALSE
SUMMARY:Sustainability and Plastics Committee: The Next Generation of Sustainable Plastic Packaging
DESCRIPTION:The plastic waste situation has pushed forward many plastic circularity innovations that can holistically solve the problem. Eco-design and closing the loop are among the solutions to which concepts align with the global sustainable direction\, such as Thailand's BCG concept or EU's Circular Economy Action Plan. Plastic producers have been playing an essential role in developing the innovations. Join this event to learn more about alternatives for future plastic packaging. \n\n\n\n\n\nAbout the Speaker:\n\nSupot Katetopragran  is the Commercial Director of Dow Thailand Group\, oversees all Dow Thailand's Joint Venture's (JV) assets and leading its commercial team. Prior to this current role\, he was President Director of Dow Indonesia where he was instrumental in driving the country growth strategy. Supot is a vice-chairperson of Petrochemical Industry Club\, the Federation of Thai Industries and chairperson for the club's Circular Economy working committee.
X-ALT-DESC;FMTTYPE=text/html:<div>The plastic waste situation has pushed forward many plastic circularity innovations that can holistically solve the problem. Eco-design and closing the loop are among the solutions to which concepts align with the global&nbsp\;sustainable direction\, such as Thailand&rsquo\;s BCG concept or EU&rsquo\;s Circular Economy Action Plan.&nbsp\;Plastic producers have been playing an essential role in developing the innovations. Join this event to learn more about alternatives for future plastic packaging.&nbsp\;<br />\n<br />\n<br />\nAbout the Speaker:<br />\n<a href="https://www.linkedin.com/in/supot-katetopragran-1a375885/">Supot Katetopragran</a>&nbsp\; is the Commercial Director of Dow Thailand Group<span style="font-size:14px\;">\,</span>&nbsp\;oversees all Dow Thailand&rsquo\;s Joint Venture&#39\;s (JV) assets and leading its commercial team. Prior to this current role\, he was President Director of Dow Indonesia where he was instrumental in driving the country growth strategy. Supot is a vice-chairperson of Petrochemical Industry Club\, the Federation of Thai Industries and chairperson for the club&rsquo\;s Circular Economy working committee.</div>\n
LOCATION:Webinar
UID:e.3314.1934
SEQUENCE:3
DTSTAMP:20260420T160444Z
URL:https://connect.amchamthailand.com/events/details/sustainability-and-plastics-committee-the-next-generation-of-sustainable-plastic-packaging-1934
END:VEVENT

END:VCALENDAR
