BEGIN:VCALENDAR
VERSION:2.0
PRODID:-//ChamberMaster//Event Calendar 2.0//EN
METHOD:PUBLISH
X-PUBLISHED-TTL:P3D
REFRESH-INTERVAL:P3D
CALSCALE:GREGORIAN
BEGIN:VEVENT
DTSTART:20200605T070000Z
DTEND:20200605T073000Z
X-MICROSOFT-CDO-ALLDAYEVENT:FALSE
SUMMARY:Staying Healthy in the Workplace
DESCRIPTION:Online registration for this event has been closed.  If you would like to join\, please request by email to sheree@amchamthailand.com by no later than 1 pm so that we can send you a link.\n\n\n\nStay healthy even when you're seated. Whether you're working from the office or working from home it's important to avoid the consequences of a sedentary lifestyle. Join us for a quick thirty-minute event for a brief overview of the concept of Office Syndrome followed by a series of short exercises you can do from your desk.\n\n\n\nAbout the Speaker:\n\nJonathan Godot completed his Master's Degree in Sport Science in France and the UK\, becoming a coach for top management and CEOs to support the body & mind through physical training\, nutrition\, and psychological support. Jonathan is the initial architect of the Fitdao concept and applied the model with successful outcomes with the Accor Group in Thailand.
X-ALT-DESC;FMTTYPE=text/html:Online registration for this event has been closed.&nbsp\; If you would like to join\, please request by email to sheree@amchamthailand.com by no later than 1 pm so that we can send you a link.<br />\n<br />\nStay healthy even when you&#39\;re seated. Whether you&#39\;re working from the office or working from home it&#39\;s important to avoid the consequences of a sedentary lifestyle. Join us for a quick thirty-minute event for a brief overview of the concept of Office Syndrome followed by a series of short exercises you can do from your desk.<br />\n<br />\nAbout the Speaker:<br />\n<a href="https://www.linkedin.com/in/jonathan-godot-12a3b41a/">Jonathan Godot</a> completed his Master&#39\;s Degree in Sport Science in France and the UK\, becoming a coach for top management and CEOs to support the body &amp\; mind through physical training\, nutrition\, and psychological support. Jonathan is the initial architect of the <a href="https://www.fitdao.com/">Fitdao</a> concept and applied the model with successful outcomes with the Accor Group in Thailand.&nbsp\;&nbsp\;
LOCATION:Video Conference
UID:e.3314.1622
SEQUENCE:3
DTSTAMP:20260422T200950Z
URL:https://connect.amchamthailand.com/events/details/staying-healthy-in-the-workplace-1622
END:VEVENT

END:VCALENDAR
