BEGIN:VCALENDAR
VERSION:2.0
PRODID:-//ChamberMaster//Event Calendar 2.0//EN
METHOD:PUBLISH
X-PUBLISHED-TTL:P3D
REFRESH-INTERVAL:P3D
CALSCALE:GREGORIAN
BEGIN:VEVENT
DTSTART:20190923T030000Z
DTEND:20190923T043000Z
X-MICROSOFT-CDO-ALLDAYEVENT:FALSE
SUMMARY:Sonoma State University Briefing
DESCRIPTION:By Invitation
X-ALT-DESC;FMTTYPE=text/html:By Invitation
LOCATION:AMCHAM Office
UID:e.3314.343
SEQUENCE:3
DTSTAMP:20260423T103036Z
URL:https://connect.amchamthailand.com/events/details/sonoma-state-university-briefing-343
END:VEVENT

END:VCALENDAR
