BEGIN:VCALENDAR
VERSION:2.0
PRODID:-//ChamberMaster//Event Calendar 2.0//EN
METHOD:PUBLISH
X-PUBLISHED-TTL:P3D
REFRESH-INTERVAL:P3D
CALSCALE:GREGORIAN
BEGIN:VEVENT
DTSTART:20190911T110000Z
DTEND:20190911T133000Z
X-MICROSOFT-CDO-ALLDAYEVENT:FALSE
SUMMARY:Social Networking @ The Landmark Hotel
DESCRIPTION:AMCHAM welcomes members back from the summer holidays with our September networking event at The Landmark Bangkok. Join us for an interesting evening of conversation and networking.\n\n\n\nEasily reached by BTS\, the Landmark Bangkok is a classic Bangkok hotel\, home to the iconic RR&B steakhouse and other well-known Bangkok favorites.\n\n\n\nThe Chamber leadership\, including many members of the Board of Governors and Committee leaders\, will be on hand to welcome members.\n\nEntrance fee includes delicious finger foods and free-flow wine and beer.\n\nTake a look at the great eats that Landmark Bangkok is providing:\n\n\n\nCold\n\nPapaya jelly crab remoulade\n\nGorgonzola espuma\, pancetta crumble\n\nCaesar salad roll\n\nAssortment of cold cut and cheese\n\nBlack ink marinated salmon roll\n\n\n\nHot\n\nSteamed bun with Chinese roasted duck\n\nMoo Ping\, pork skewers\n\nTeriyaki chicken lollypop\n\n\n\nLive station\n\nSpicy Saut ed prawn Tom Yam espuma\n\nRisotto on parmesan wheel\n\nButifarra sausage\, potato brava foam\n\n\n\nSweets\n\nPecan pie and chocolate\n\nBlueberry crumble\n\nCheesecake raspberry\n\nRed velvet brownie\n\nWhoopie oreo
X-ALT-DESC;FMTTYPE=text/html:<p style="box-sizing: content-box\; font-family: OpenSans\, Arial\, Helvetica\, sans-serif\; line-height: inherit\; margin: 1em 0px\; bottom: auto\; clear: none\; color: rgb(68\, 68\, 68)\; content: normal\; direction: inherit\; empty-cells: show\; float: none\; font-variant-numeric: inherit\; font-variant-east-asian: inherit\; font-stretch: inherit\; font-size: 14px\; left: auto\; max-height: none\; max-width: none\; min-height: initial\; min-width: initial\; opacity: 1\; outline-offset: 0px\; overflow: visible\; padding: 0px\; position: static\; resize: none\; right: auto\; table-layout: auto\; text-overflow: clip\; top: auto\; vertical-align: baseline\; visibility: inherit\; word-break: inherit\; overflow-wrap: inherit\; z-index: auto\; background: none rgb(255\, 255\, 255)\; border: none\; border-collapse: separate\; border-radius: 0px\; height: auto\; width: auto\; box-shadow: none\;">AMCHAM&nbsp\;welcomes members back from the summer holidays with our September networking event at&nbsp\;The Landmark Bangkok.&nbsp\;Join us for an interesting evening of conversation and networking.<br />\n<br />\nEasily reached by BTS\, the Landmark Bangkok is a classic Bangkok hotel\, home to the iconic RR&amp\;B steakhouse and other well-known Bangkok favorites.<br style="box-sizing: content-box\; font: inherit\; bottom: auto\; clear: none\; color: inherit\; content: normal\; direction: inherit\; display: inline\; empty-cells: show\; float: none\; left: auto\; letter-spacing: inherit\; margin: 0px\; max-height: none\; max-width: none\; min-height: initial\; min-width: initial\; opacity: 1\; outline-offset: 0px\; overflow: visible\; padding: 0px\; position: static\; resize: none\; right: auto\; table-layout: auto\; text-align: inherit\; text-indent: inherit\; text-overflow: clip\; text-transform: inherit\; top: auto\; vertical-align: baseline\; visibility: inherit\; white-space: inherit\; word-break: inherit\; word-spacing: inherit\; overflow-wrap: inherit\; z-index: auto\; background: none\; border: none\; border-collapse: separate\; border-radius: 0px\; height: auto\; width: auto\;" />\n<br style="box-sizing: content-box\; font: inherit\; bottom: auto\; clear: none\; color: inherit\; content: normal\; direction: inherit\; display: inline\; empty-cells: show\; float: none\; left: auto\; letter-spacing: inherit\; margin: 0px\; max-height: none\; max-width: none\; min-height: initial\; min-width: initial\; opacity: 1\; outline-offset: 0px\; overflow: visible\; padding: 0px\; position: static\; resize: none\; right: auto\; table-layout: auto\; text-align: inherit\; text-indent: inherit\; text-overflow: clip\; text-transform: inherit\; top: auto\; vertical-align: baseline\; visibility: inherit\; white-space: inherit\; word-break: inherit\; word-spacing: inherit\; overflow-wrap: inherit\; z-index: auto\; background: none\; border: none\; border-collapse: separate\; border-radius: 0px\; height: auto\; width: auto\;" />\nThe Chamber leadership\, including many members of the Board of Governors and Committee leaders\, will be on hand to welcome members.</p>\n\n<p style="box-sizing: content-box\; font-family: OpenSans\, Arial\, Helvetica\, sans-serif\; line-height: inherit\; margin: 1em 0px\; bottom: auto\; clear: none\; color: rgb(68\, 68\, 68)\; content: normal\; direction: inherit\; empty-cells: show\; float: none\; font-variant-numeric: inherit\; font-variant-east-asian: inherit\; font-stretch: inherit\; font-size: 14px\; left: auto\; max-height: none\; max-width: none\; min-height: initial\; min-width: initial\; opacity: 1\; outline-offset: 0px\; overflow: visible\; padding: 0px\; position: static\; resize: none\; right: auto\; table-layout: auto\; text-overflow: clip\; top: auto\; vertical-align: baseline\; visibility: inherit\; word-break: inherit\; overflow-wrap: inherit\; z-index: auto\; background: none rgb(255\, 255\, 255)\; border: none\; border-collapse: separate\; border-radius: 0px\; height: auto\; width: auto\; box-shadow: none\;">Entrance fee includes delicious finger foods and&nbsp\;free-flow <strong>wine and beer</strong>.</p>\n\n<p style="box-sizing: content-box\; font-family: OpenSans\, Arial\, Helvetica\, sans-serif\; line-height: inherit\; margin: 1em 0px\; bottom: auto\; clear: none\; color: rgb(68\, 68\, 68)\; content: normal\; direction: inherit\; empty-cells: show\; float: none\; font-variant-numeric: inherit\; font-variant-east-asian: inherit\; font-stretch: inherit\; font-size: 14px\; left: auto\; max-height: none\; max-width: none\; min-height: initial\; min-width: initial\; opacity: 1\; outline-offset: 0px\; overflow: visible\; padding: 0px\; position: static\; resize: none\; right: auto\; table-layout: auto\; text-overflow: clip\; top: auto\; vertical-align: baseline\; visibility: inherit\; word-break: inherit\; overflow-wrap: inherit\; z-index: auto\; background: none rgb(255\, 255\, 255)\; border: none\; border-collapse: separate\; border-radius: 0px\; height: auto\; width: auto\; box-shadow: none\;">Take a look at the great eats that Landmark Bangkok is providing:<br />\n<br />\n<strong>Cold</strong><br />\nPapaya jelly crab remoulade<br />\nGorgonzola espuma\, pancetta crumble<br />\nCaesar salad roll<br />\nAssortment of cold cut and cheese<br />\nBlack ink marinated salmon roll<br />\n<br />\n<strong>Hot</strong><br />\nSteamed bun with Chinese roasted duck<br />\nMoo Ping\, pork skewers<br />\nTeriyaki chicken lollypop<br />\n<br />\n<strong>Live station</strong><br />\nSpicy Saut&eacute\;ed prawn Tom Yam espuma<br />\nRisotto on parmesan wheel<br />\nButifarra sausage\, potato brava foam<br />\n<br />\n<strong>Sweets</strong><br />\nPecan pie and chocolate<br />\nBlueberry crumble<br />\nCheesecake raspberry<br />\nRed velvet brownie<br />\nWhoopie oreo<br />\n&nbsp\;</p>\n
LOCATION:The Landmark Hotel\, Sukhumvit 1-2 room\, 3rd floor BTS Nana
UID:e.3314.342
SEQUENCE:3
DTSTAMP:20260423T103214Z
URL:https://connect.amchamthailand.com/events/details/social-networking-the-landmark-hotel-342
END:VEVENT

END:VCALENDAR
