BEGIN:VCALENDAR
VERSION:2.0
PRODID:-//ChamberMaster//Event Calendar 2.0//EN
METHOD:PUBLISH
X-PUBLISHED-TTL:P3D
REFRESH-INTERVAL:P3D
CALSCALE:GREGORIAN
BEGIN:VEVENT
DTSTART:20190213T110000Z
DTEND:20190213T133000Z
X-MICROSOFT-CDO-ALLDAYEVENT:FALSE
SUMMARY:Social Networking @ Bangkok Marriott Hotel The Surawongse
DESCRIPTION:ONLINE BOOKINGS HAVE CLOSED FOR THIS EVENT.  WALK-INS ARE WELCOME.\n\n\n\nAMCHAM Thailand invites you to an evening of networking and socializing at one of Bangkok's newest hotels.  Our host venue invites you to discover Thailand culture\, cuisine\, history and architecture with sleek\, modern style and 5-star service at this luxury hotel.   At this month's event\, you'll also have the opportunity to win 2 tickets to superstar comic Jim Gaffigan's upcoming Bangkok appearance in March on his Quality Time Tour. Members must be present to win.  \n\n\n\nEntrance fee includes a selection of mouth-watering foods\, and free-flow wine and beer.\n\nProceeds from our networking events go to support the American Chamber of Commerce in Thailand Foundation Scholarship Program.
X-ALT-DESC;FMTTYPE=text/html:<p><span style="color:#B22222\;"><strong>ONLINE BOOKINGS HAVE CLOSED FOR THIS EVENT.&nbsp\; WALK-INS ARE WELCOME.</strong></span><br />\n<br />\nAMCHAM&nbsp\;Thailand invites you to an evening of networking and socializing at one of Bangkok&#39\;s newest hotels.&nbsp\; Our host venue invites you to discover Thailand culture\, cuisine\, history and architecture with sleek\, modern style and 5-star service at this&nbsp\;luxury hotel.&nbsp\; &nbsp\;<span background-color:="" font-size:="" helvetica="" open="" style="font-family: ">At this month&#39\;s event\, you&#39\;ll also have the opportunity to win 2 tickets to superstar comic Jim Gaffigan&#39\;s upcoming Bangkok appearance in March on his Quality Time Tour. Members must be present to win.&nbsp\;&nbsp\;</span><br />\n<br />\nEntrance fee includes a selection of mouth-watering foods\, and free-flow wine and beer.</p>\n\n<p>Proceeds from our networking events go to support the American Chamber of Commerce in Thailand Foundation Scholarship Program.</p>\n\n<p>&nbsp\;</p>\n
LOCATION:Bangkok Marriott Hotel The Surawongse Closest BTS Chong Nonsri
UID:e.3314.43
SEQUENCE:3
DTSTAMP:20260424T000326Z
URL:https://connect.amchamthailand.com/events/details/social-networking-bangkok-marriott-hotel-the-surawongse-43
END:VEVENT

END:VCALENDAR
