BEGIN:VCALENDAR
VERSION:2.0
PRODID:-//ChamberMaster//Event Calendar 2.0//EN
METHOD:PUBLISH
X-PUBLISHED-TTL:P3D
REFRESH-INTERVAL:P3D
CALSCALE:GREGORIAN
BEGIN:VEVENT
DTSTART:20191105T090000Z
DTEND:20191105T110000Z
X-MICROSOFT-CDO-ALLDAYEVENT:FALSE
SUMMARY:SME Committee: Introducing “LINE Official Account”\, a new CRM tool for business in Thailand
DESCRIPTION:Introducing the new CRM tool for Small/Medium Enterprises in Thailand - LINE Official Account\, a platform to connect your brands with Thai customers through smarter features and interface. With over 3 million active accounts\, it is important to understand how your business can effectively utilize this channel as communication and CRM tool. \n\n\n\nThis discussion is great for those curious about how implement LINE's new application to better serve their business in Thailand. With a special focus for SMEs\, LINE Official Account can be customized to meet needs in a variety of settings. \n\n\n\nOur speaker:\n\nSai Jarusean has been working for LINE Thailand as Business Development Manager\, and her role is to build relationships with SME partners and related government organizations in order to promote awareness and increase LINE Official Account usage.
X-ALT-DESC;FMTTYPE=text/html:Introducing the new CRM tool for Small/Medium Enterprises in Thailand - LINE Official Account\, a platform to connect your brands with Thai customers through smarter features and interface.&nbsp\;With over 3 million active accounts\, it is important to understand how your business can effectively utilize this channel as communication and CRM tool.&nbsp\;<br />\n<br />\nThis discussion is great for those curious about how implement LINE&#39\;s new application to better serve their business in Thailand. With a special focus for SMEs\, LINE Official Account can be customized to meet needs in a variety of settings.&nbsp\;<br />\n<br />\n<strong>Our speaker:</strong><br />\n<a href="https://www.linkedin.com/in/sai-jarusean/?originalSubdomain=th">Sai Jarusean</a> has been working for LINE Thailand as Business Development Manager\, and her role is to build relationships with SME partners and related government organizations in order to promote awareness and increase LINE Official Account usage.&nbsp\;
LOCATION:Line office\, Gaysorn Tower\, 17th Floor. BTS Chidlom
UID:e.3314.403
SEQUENCE:3
DTSTAMP:20260423T092249Z
URL:https://connect.amchamthailand.com/events/details/sme-committee-introducing-line-official-account-a-new-crm-tool-for-business-in-thailand-403
END:VEVENT

END:VCALENDAR
