BEGIN:VCALENDAR
VERSION:2.0
PRODID:-//ChamberMaster//Event Calendar 2.0//EN
METHOD:PUBLISH
X-PUBLISHED-TTL:P3D
REFRESH-INTERVAL:P3D
CALSCALE:GREGORIAN
BEGIN:VEVENT
DTSTART:20191203T080000Z
DTEND:20191203T090000Z
X-MICROSOFT-CDO-ALLDAYEVENT:FALSE
SUMMARY:SME Committee: 2020 planning session
DESCRIPTION:All Chamber members are encouraged to join the SME Committee at the Anantara Siam for a 2020 planning session. Together\, we will briefly discuss the previous year's activities & put an action plan together for the next year. This meeting is all about delivering value to our member companies\, it will be fast-paced\, productive and no holes barred -  let's shoot for the moon!  \n\n\n\nWe will keep the meeting to 1 hour so come prepared with your thoughts & recommendations.
X-ALT-DESC;FMTTYPE=text/html:<div>All Chamber members are encouraged to join the SME Committee at the Anantara Siam&nbsp\;for a 2020 planning session.&nbsp\;Together\, we will briefly discuss the previous year&#39\;s activities &amp\; put an action plan together for the next year. This meeting is all about delivering value to our member companies\, it will be fast-paced\, productive and no holes barred -&nbsp\; let&#39\;s shoot for the moon!&nbsp\;&nbsp\;<br />\n<br />\nWe will keep the meeting to 1 hour so come prepared with your thoughts &amp\; recommendations.&nbsp\;</div>\n
LOCATION:Anantara Siam (BTS Rajadamri) View Map
UID:e.3314.452
SEQUENCE:3
DTSTAMP:20260423T072650Z
URL:https://connect.amchamthailand.com/events/details/sme-committee-2020-planning-session-452
END:VEVENT

END:VCALENDAR
