BEGIN:VCALENDAR
VERSION:2.0
PRODID:-//ChamberMaster//Event Calendar 2.0//EN
METHOD:PUBLISH
X-PUBLISHED-TTL:P3D
REFRESH-INTERVAL:P3D
CALSCALE:GREGORIAN
BEGIN:VEVENT
DTSTART:20200303T073000Z
DTEND:20200303T090000Z
X-MICROSOFT-CDO-ALLDAYEVENT:FALSE
SUMMARY:Small Business CEO Roundtable: Business Considerations for Covid-19
DESCRIPTION:What is your company doing to prepare for Covid-19? In this rapidly moving situation\, companies are working overtime to understand potential impacts\, ensure employee health & safety\, and be ready to adapt operations for a wide range of potential scenarios.\n\n \n\nAMCHAM would like to invite you to join an open knowledge-sharing session with fellow member CEOs\, Managing Directors and Country Heads\, where you can exchange findings and learn from each other about how to confront some of the shared challenges we are facing.\n\n\n\nParticipants must be Managing Director\, CEO or owner of a small business (50 employees or fewer). Only one representative per company\, total attendance will be capped at 14.\n\n\n\nAMCHAM is also organizing a separate knowledge-sharing session dedicated to C-Suite level executives of large corporates\, as small businesses face different operational challenges from large multinational corporations - for our Corporate C-Suite Roundtable\, please see more information and register here.
X-ALT-DESC;FMTTYPE=text/html:What is your company doing to prepare for Covid-19? In this rapidly moving situation\, companies are working overtime to understand potential impacts\, ensure employee health &amp\; safety\, and be ready to adapt operations for a wide range of potential scenarios.<br />\n&nbsp\;<br />\nAMCHAM would like to invite you to join an open knowledge-sharing session with fellow member CEOs\, Managing Directors and Country Heads\, where you can exchange findings and learn from each other about how to confront some of the shared challenges we are facing.<br />\n<br />\n<strong>Participants must be Managing Director\, CEO or owner of a small business (50 employees or fewer).&nbsp\;Only one representative per company\, total attendance will be capped at 14.</strong><br />\n<br />\nAMCHAM is also organizing a separate knowledge-sharing session dedicated to C-Suite level executives of large corporates\, as small businesses face different operational challenges from large multinational corporations - for our <strong>Corporate C-Suite Roundtable</strong>\, please see more information and register <a href="https://connect.amchamthailand.com/events/details/c-suite-roundtable-business-considerations-for-covid-19-1549">here</a>.
LOCATION:AMCHAM Office\, Citi Boardroom Nearest BTS: Ploenchit
UID:e.3314.1550
SEQUENCE:3
DTSTAMP:20260423T020728Z
URL:https://connect.amchamthailand.com/events/details/small-business-ceo-roundtable-business-considerations-for-covid-19-1550
END:VEVENT

END:VCALENDAR
