BEGIN:VCALENDAR
VERSION:2.0
PRODID:-//ChamberMaster//Event Calendar 2.0//EN
METHOD:PUBLISH
X-PUBLISHED-TTL:P3D
REFRESH-INTERVAL:P3D
CALSCALE:GREGORIAN
BEGIN:VEVENT
DTSTART;VALUE=DATE:20181028
DTEND;VALUE=DATE:20181029
TRANSP:TRANSPARENT
X-MICROSOFT-CDO-ALLDAYEVENT:TRUE
SUMMARY:Scholarship Student Career Camp\, 28-31 October
DESCRIPTION:Career camp for graduating AMCHAM scholarship students\n\n28 October - Ice-Breaker Dinner @ Anantara Sathorn\n\n29 October - Career Workshops @ AIA Training Center\n\n                   - Career Night panel @ Anantara Sathorn\n\n30 October - AMCHAM Member company site visits\n\n31 October - Mock HR Interviews @ AIA Training Center\n\n                   - Certificate presentation @ Anantara Siam
X-ALT-DESC;FMTTYPE=text/html:Career camp for graduating AMCHAM scholarship students<br />\n28 October - Ice-Breaker Dinner @ Anantara Sathorn<br />\n29 October - Career Workshops @ AIA Training Center<br />\n&nbsp\; &nbsp\; &nbsp\; &nbsp\; &nbsp\; &nbsp\; &nbsp\; &nbsp\; &nbsp\; &nbsp\;- Career Night panel @ Anantara Sathorn<br />\n30 October - AMCHAM Member company site visits<br />\n31 October - Mock HR Interviews @ AIA Training Center<br />\n&nbsp\; &nbsp\; &nbsp\; &nbsp\; &nbsp\; &nbsp\; &nbsp\; &nbsp\; &nbsp\; &nbsp\;- Certificate presentation @ Anantara Siam
LOCATION:Various
UID:e.3314.37
SEQUENCE:3
DTSTAMP:20260424T062206Z
URL:https://connect.amchamthailand.com/events/details/scholarship-student-career-camp-28-31-october-37
END:VEVENT

END:VCALENDAR
