BEGIN:VCALENDAR
VERSION:2.0
PRODID:-//ChamberMaster//Event Calendar 2.0//EN
METHOD:PUBLISH
X-PUBLISHED-TTL:P3D
REFRESH-INTERVAL:P3D
CALSCALE:GREGORIAN
BEGIN:VEVENT
DTSTART:20220325T070000Z
DTEND:20220325T090000Z
X-MICROSOFT-CDO-ALLDAYEVENT:FALSE
SUMMARY:POSTPONED - Manufacturing Committee: Jelly Belly Factory Tour
DESCRIPTION:This event has been postponed to June 2.
X-ALT-DESC;FMTTYPE=text/html:This event has been postponed to <a href="https://connect.amchamthailand.com/events/details/manufacturing-committee-jelly-belly-factory-tour-2169?calendarMonth=2022-06-01">June 2</a>.
LOCATION:
UID:e.3314.2186
SEQUENCE:3
DTSTAMP:20260421T052729Z
URL:https://connect.amchamthailand.com/events/details/postponed-manufacturing-committee-jelly-belly-factory-tour-2186
END:VEVENT

END:VCALENDAR
