BEGIN:VCALENDAR
VERSION:2.0
PRODID:-//ChamberMaster//Event Calendar 2.0//EN
METHOD:PUBLISH
X-PUBLISHED-TTL:P3D
REFRESH-INTERVAL:P3D
CALSCALE:GREGORIAN
BEGIN:VEVENT
DTSTART:20220404T013000Z
DTEND:20220404T023000Z
X-MICROSOFT-CDO-ALLDAYEVENT:FALSE
SUMMARY:POSTPONED - Aerospace Council: April 2022 Video Conference
DESCRIPTION:This event has been postponed to May 9
X-ALT-DESC;FMTTYPE=text/html:This event has been postponed to <a href="https://connect.amchamthailand.com/events/details/aerospace-council-may-2022-video-conference-2110?calendarMonth=2022-05-01">May 9</a>
LOCATION:Video conference
UID:e.3314.2107
SEQUENCE:3
DTSTAMP:20260421T032127Z
URL:https://connect.amchamthailand.com/events/details/postponed-aerospace-council-april-2022-video-conference-2107
END:VEVENT

END:VCALENDAR
