BEGIN:VCALENDAR
VERSION:2.0
PRODID:-//ChamberMaster//Event Calendar 2.0//EN
METHOD:PUBLISH
X-PUBLISHED-TTL:P3D
REFRESH-INTERVAL:P3D
CALSCALE:GREGORIAN
BEGIN:VEVENT
DTSTART:20200212T020000Z
DTEND:20200212T033000Z
X-MICROSOFT-CDO-ALLDAYEVENT:FALSE
SUMMARY:Plastic Waste Management Task Force: Introduction to PPP Plastics
DESCRIPTION:Join us for the 2nd meeting of the AMCHAM Plastic Waste Management Task Force: Introduction to PPP Plastics. AMCHAM is pleased to welcome Khun Poranee Kongamornpinyo of Dow Chemical Thailand\, who will share information on plastic waste management\, and present the introduction slides on PPP Plastics.\n\n\n\nThe Thai government's campaign "Everyday Say No to Plastic Bags" has begun.  The private sector is fully on board in this endeavor and the consumers have started to change their habits by bringing their own bags to carry their shopping.\n\n\n\nA lot still needs to be done in the long term\, which will require new ideas\, models\, methodologies\, and cooperation from all segments of the society.\n\n\n\nWe will also be discussing future plans for developing the AMCHAM position\, design and implement constructive activities on this important issue.
X-ALT-DESC;FMTTYPE=text/html:Join us for the 2nd meeting of the AMCHAM Plastic Waste Management Task Force: Introduction to PPP Plastics.&nbsp\;AMCHAM is pleased to welcome Khun Poranee Kongamornpinyo of Dow Chemical Thailand\, who will share information on plastic waste management\, and present the introduction slides on PPP Plastics.<br />\n<br />\nThe Thai government&rsquo\;s campaign &ldquo\;Everyday Say No to Plastic Bags&rdquo\; has begun.&nbsp\; The private sector is fully on board in this endeavor and the consumers have started to change their habits by bringing their own bags to carry their shopping.<br />\n<br />\nA lot still needs to be done in the long term\, which will require new ideas\, models\, methodologies\, and cooperation from all segments of the society.<br />\n<br />\nWe will&nbsp\;also be discussing future plans for&nbsp\;developing the AMCHAM position\, design and implement constructive activities on this important issue.
LOCATION:AMCHAM Office\, Citi Boardroom Nearest BTS: Ploenchit
UID:e.3314.1508
SEQUENCE:3
DTSTAMP:20260421T035644Z
URL:https://connect.amchamthailand.com/events/details/plastic-waste-management-task-force-introduction-to-ppp-plastics-1508
END:VEVENT

END:VCALENDAR
