BEGIN:VCALENDAR
VERSION:2.0
PRODID:-//ChamberMaster//Event Calendar 2.0//EN
METHOD:PUBLISH
X-PUBLISHED-TTL:P3D
REFRESH-INTERVAL:P3D
CALSCALE:GREGORIAN
BEGIN:VEVENT
DTSTART:20190308T110000Z
DTEND:20190308T140000Z
X-MICROSOFT-CDO-ALLDAYEVENT:FALSE
SUMMARY:Phuket Sundowners hosted by AustCham
DESCRIPTION:REGISTER HERE\n\n\n\nAMCHAM members are invited to join the upcoming Phuket Sundowners\, at the Angsana Laguna Phuket.\n\nAustCham Thailand\, in collaboration with Australian Alumni\, The American Chamber of Commerce in Thailand (AMCHAM) \, British Chamber of Commerce Thailand (BCCT)\, German-Thai Chamber of Commerce (GTCC) and the Netherlands-Thai Chamber of Commerce (NTCC)\, is delighted to invite members and guests from AustCham and partner chambers to join our Phuket Sundowners to be held on Friday 8th March\, 2019\, at the Angsana Laguna Phuket.\n\n\n\nA panel discussion on "Doing in Business in ASEAN" will be held prior to Sundowners.\n\n\n\nAngsana Laguna Phuket is set along the shores of Phuket's Bang Tao Bay in the island's northwest\, with more than 300 meters of free-form pool winding around the resort. A perfect setting for networking with old and new friends in the business community.
X-ALT-DESC;FMTTYPE=text/html:<p><a href="http://www.austchamthailand.com/event-3255100"><span style="color:#000080\;"><span style="font-family:arial\,sans-serif\;"><span style="font-size:10.5pt\;"><strong>REGISTER HERE</strong></span></span></span></a><br />\n<br />\n<span style="font-family: arial\; font-size: 14px\;">AMCHAM members are invited to join the upcoming&nbsp\;Phuket Sundowners\, at the Angsana Laguna Phuket.</span></p>\n\n<p style="margin-top:0in\;margin-right:0in\;margin-bottom:10.5pt\;margin-left:&#10\;0in\;line-height:15.75pt"><span style="font-size:10.5pt\;font-family:">AustCham Thailand\, in collaboration with Australian Alumni\, The American Chamber of Commerce in Thailand (AMCHAM) \, British Chamber of Commerce Thailand (BCCT)\, German-Thai Chamber of Commerce (GTCC) and the Netherlands-Thai Chamber of Commerce (NTCC)\, is delighted to invite members and guests from AustCham and partner chambers to join our <strong><span style="font-family:">Phuket Sundowners</span></strong> to be held on Friday 8th March\, 2019\, at the Angsana Laguna Phuket.</span><br />\n<br />\n<span style="font-size:14px\;"><span style="font-family:arial\;">A </span></span><span style="color:#282828\;"><span style="font-family:arial\,sans-serif\;"><span style="font-size:10.5pt\;">panel discussion on &ldquo\;Doing in Business in ASEAN&quot\;</span></span></span><span style="font-size:14px\;"><span style="font-family:arial\;"> will be held prior to Sundowners.</span></span><br />\n<br />\n<span style="font-size:14px\;"><span style="font-family:arial\;">Angsana Laguna Phuket is set along the shores of Phuket&#39\;s Bang Tao Bay in the island&#39\;s northwest\, with more than 300 meters of free-form pool winding around the resort. A perfect setting for networking with old and new friends in the business community.</span></span></p>\n
LOCATION:Angsana Laguna Phuket
UID:e.3314.256
SEQUENCE:3
DTSTAMP:20260423T221103Z
URL:https://connect.amchamthailand.com/events/details/phuket-sundowners-hosted-by-austcham-256
END:VEVENT

END:VCALENDAR
