BEGIN:VCALENDAR
VERSION:2.0
PRODID:-//ChamberMaster//Event Calendar 2.0//EN
METHOD:PUBLISH
X-PUBLISHED-TTL:P3D
REFRESH-INTERVAL:P3D
CALSCALE:GREGORIAN
BEGIN:VEVENT
DTSTART:20230904T020000Z
DTEND:20230904T100000Z
X-MICROSOFT-CDO-ALLDAYEVENT:FALSE
SUMMARY:PHIST: The Sustainable Hospitality Learning Event 2023
DESCRIPTION:Please note that this event is hosted by Phuket Hotels Association and event requirements may differ from AMCHAM. The registration link will send you away from the AMCHAM website to the website of the organizer.  Please be advised that this event organizer may have different data collection/privacy and event cancellation policies than AMCHAM Thailand.\n\nREGISTER NOW\n\n\n\nA Learning Event for Hotels\, Tourism and Travel\n\nThe sixth annual Asian leading sustainability-focused learning event PHIST6 will take place in a dynamic in-person setting on Monday\, 4th September 2023. Live and in-person from Phuket\, Thailand with speakers from across Asia.\n\nThe special main event is a ninety minutes\, high-velocity\, candid in-person conversation with leading sustainability experts. Expect a deep dive into present day trends and learn how the impact of the ongoing pandemic and beyond will undoubtedly change the travel and tourism universe we have come to know. What we now know now in a Covid-19 world is that we learn to navigate our daily lives in an entirely new way.\n\nPHIST6 is an ongoing special event collaboration between the Phuket Hotels Association\, Greenview and C9 Hotelworks\, with support from the American Chamber of Commerce Thailand (AMCHAM)\, QUO\, Creative Concept AV and Delivering Asia Communications.\n\nYou can sign up now for this not-to-be-missed special event for hoteliers\, travel and tourism businesses\, hotel owners\, developers and operators\, environmental product suppliers\, NGOs\, hospitality students and media.\n\nWe will also be presenting four\, one-hour\, topical focused environmental masterclasses that will be available on the day.\n\n\n\nCo-Hosts\n\n\n	 Eric Ricaute\, Founder & CEO\, Greenview\n	 Bill Barnett\, Managing Director\, C9 Hotelworks\n\n\n\n\n \n\n\n\nEvent Program \n\n\n	08:00 am   10:00 am       Hotel Owners of Tomorrow (HOT) Roundtable Closed door   Invite only session\n	08:30 am   04:00 pm       Co-Working time (available throughout the day) by HOMA\n	09:00 am   05:30 pm       Registration Open\n\n                                                   GREEN Expo opens\n\n\n	09:00 am   10:00 am       Morning Matchmaking Session\n	11:30 am   01:30 pm       Lunch: Food Truck Style\n	01:00 pm   05:00 pm       Afternoon Session Workshops\n	04:00 pm   05:00 pm       Afternoon Matchmaking Session\n	05:00 pm   06:00 pm       Networking Cocktails
X-ALT-DESC;FMTTYPE=text/html:<p color:="" font-size:="" line-height:="" margin-bottom:="" margin-top:="" open="">Please note that this event is hosted by Phuket Hotels Association&nbsp\;and event requirements may&nbsp\;differ from AMCHAM. The registration link will send you away from the AMCHAM website to the website of the organizer.&#8203\; Please be advised that this event organizer may have different data collection/privacy and event cancellation policies than AMCHAM Thailand.</p>\n\n<p><a href="https://phist.phukethotelsassociation.com/"><span style="font-size:16px\;"><span style="font-family:arial\;"><strong><span style="color:#000080\;">REGISTER NOW</span></strong></span></span></a><br />\n<br />\nA Learning Event for Hotels\, Tourism and Travel</p>\n\n<p>The sixth annual Asian leading sustainability-focused learning event<a href="https://phist.phukethotelsassociation.com/" rel="noreferrer noopener" target="_blank">&nbsp\;PHIST</a>6&nbsp\;will take place in a dynamic in-person setting on Monday\, 4th September 2023. Live and in-person from Phuket\, Thailand with speakers from across Asia.</p>\n\n<p>The special main event is a ninety minutes\, high-velocity\, candid in-person conversation with leading sustainability experts. Expect a deep dive into present day trends and learn how the impact of the ongoing pandemic and beyond will undoubtedly change the travel and tourism universe we have come to know. What we now know now in a Covid-19 world is that we learn to navigate our daily lives in an entirely new way.</p>\n\n<p>PHIST6 is an ongoing special event collaboration between the&nbsp\;<a href="https://www.phukethotelsassociation.com/" rel="noreferrer noopener" target="_blank">Phuket Hotels Association</a>\,&nbsp\;<a href="https://greenview.sg/" rel="noreferrer noopener" target="_blank">Greenview</a>&nbsp\;and&nbsp\;<a href="https://www.c9hotelworks.com/" rel="noreferrer noopener" target="_blank">C9 Hotelworks</a>\, with support from the&nbsp\;<a href="https://www.amchamthailand.com/" rel="noreferrer noopener" target="_blank">American Chamber of Commerce Thailand (AMCHAM)</a>\,&nbsp\;<a href="https://www.quo-global.com/" rel="noreferrer noopener" target="_blank">QUO</a>\,&nbsp\;<a href="https://inspiredintl.com/" rel="noreferrer noopener" target="_blank">Creative Concept AV</a>&nbsp\;and&nbsp\;<a href="http://www.deliveringcommunications.com/" rel="noreferrer noopener" target="_blank">Delivering Asia Communications</a>.</p>\n\n<p>You can sign up now for this not-to-be-missed special event for hoteliers\, travel and tourism businesses\, hotel owners\, developers and operators\, environmental product suppliers\, NGOs\, hospitality students and media.</p>\n\n<p>We will also be presenting four\, one-hour\, topical focused environmental masterclasses that will be available on the day.<br />\n<br />\n<strong>Co-Hosts</strong></p>\n\n<ul>\n	<li>&nbsp\;<a href="https://sg.linkedin.com/in/ericricaurte?msclkid=49ae792ea67711ecb79a4460fd21b309" rel="noreferrer noopener" target="_blank">Eric Ricaute\, </a>Founder &amp\; CEO\, Greenview</li>\n	<li>&nbsp\;<a href="https://th.linkedin.com/in/barnettbill?msclkid=c27471a5a67711ec9f3097b31147dffd" rel="noreferrer noopener" target="_blank">Bill Barnett\,&nbsp\;</a>Managing Director\, C9 Hotelworks</li>\n</ul>\n\n<p><br />\n&nbsp\;</p>\n\n<hr /><br />\n<strong>Event Program&nbsp\;</strong>\n\n<ul>\n	<li>08:00 am &ndash\; 10:00 am&nbsp\; &nbsp\; &nbsp\; &nbsp\;Hotel Owners of Tomorrow (HOT) Roundtable Closed door &ndash\;&nbsp\;Invite only session</li>\n	<li>08:30 am &ndash\; 04:00 pm&nbsp\; &nbsp\; &nbsp\; &nbsp\;Co-Working time (available throughout the day) by HOMA</li>\n	<li>09:00 am &ndash\; 05:30 pm&nbsp\; &nbsp\; &nbsp\; &nbsp\;Registration Open</li>\n</ul>\n&nbsp\; &nbsp\; &nbsp\; &nbsp\; &nbsp\; &nbsp\; &nbsp\; &nbsp\; &nbsp\; &nbsp\; &nbsp\; &nbsp\; &nbsp\; &nbsp\; &nbsp\; &nbsp\; &nbsp\; &nbsp\; &nbsp\; &nbsp\; &nbsp\; &nbsp\; &nbsp\; &nbsp\; &nbsp\; &nbsp\;GREEN Expo opens\n\n<ul>\n	<li>09:00 am &ndash\; 10:00 am&nbsp\; &nbsp\; &nbsp\; &nbsp\;Morning Matchmaking Session</li>\n	<li>11:30 am &ndash\; 01:30 pm&nbsp\; &nbsp\; &nbsp\; &nbsp\;Lunch: Food Truck Style</li>\n	<li>01:00 pm &ndash\; 05:00 pm&nbsp\; &nbsp\; &nbsp\; &nbsp\;Afternoon Session Workshops</li>\n	<li>04:00 pm &ndash\; 05:00 pm&nbsp\; &nbsp\; &nbsp\; &nbsp\;Afternoon Matchmaking Session</li>\n	<li>05:00 pm &ndash\; 06:00 pm&nbsp\; &nbsp\; &nbsp\; &nbsp\;Networking Cocktails</li>\n</ul>\n&nbsp\;
LOCATION:SAii Laguna Phuket
UID:e.3314.2600
SEQUENCE:3
DTSTAMP:20260419T201438Z
URL:https://connect.amchamthailand.com/events/details/phist-the-sustainable-hospitality-learning-event-2023-2600
END:VEVENT

END:VCALENDAR
