BEGIN:VCALENDAR
VERSION:2.0
PRODID:-//ChamberMaster//Event Calendar 2.0//EN
METHOD:PUBLISH
X-PUBLISHED-TTL:P3D
REFRESH-INTERVAL:P3D
CALSCALE:GREGORIAN
BEGIN:VEVENT
DTSTART:20190321T013000Z
DTEND:20190321T100000Z
X-MICROSOFT-CDO-ALLDAYEVENT:FALSE
SUMMARY:Partner Event: WHA: 2019 Workshop & B2B on Thailand: Path to Aerospace
DESCRIPTION:REGISTER NOW\n\n\n\nAMCHAM Thailand and WHA Group are pleased to invite you to join 2019 Workshop & B2B on Thailand: Path to Aerospace.\n\nFollowing the success achieved by the 2018 Workshop\, "Thailand: Path to Aerospace" makes its return with an enriched program to give its participants an even more comprehensive understanding on how to become a qualified aerospace supplier.\n\n \n\nThe 2019 Workshop & B2B edition is co-organized by WHA Group and Italian Aerospace Network (IAN)\, co-promoted by AMCHAM Thailand\, Thai-European Business Association (TEBA) and Thai-Italian Chamber of Commerce (TICC) and supported by the Eastern Economic Corridor office of Thailand (EEC) and the Civil Aviation Authority of Thailand (CAAT).\n\n \n\nThe workshop program (conducted in Thai) brings international experts to Thailand to speak on all of the topics a company should consider when entering the aerospace industry:\n\n\n	Trends in the aviation and aerospace industry\;\n	Opportunities for companies in international markets (and how to grab them)\;\n	Analysis of areospace industry management systems that can help companies succeed in becoming a strategic supplier\;\n	How to recruit experienced aerospace executives and partnerships across the globe to make a company a more experienced aerospace player\;\n	How to align your company to the EASA approach in the quality and compliance monitoring system\, initial airworthiness\, continuing airworthiness\, air operation\, training\, safety management system\, avionic integrated system\, maintenance\, maintenance\, repair and overhaul (MRO)\;\n	Engage the global forefront of technology with high-reliability solutions for safety critical applications\, the emerging field of Internet of Things and the world of instrumentation for space and scientific applications.\n\n\nThe workshop is followed by a networking lunch and B2B meetings (20 minutes for each session) between pre-registered Thai delegates and speakers to create an initial point of contact and establish direct communication channels between key stakeholders.\n\n  \n\nDownload:  Full Agenda & Registration Form\n\n                \n\nAgenda\n\n  8.00 am     Registration\n\n  8.30 am     Welcome Remarks \n\n                    Ms. Siyaphas Chantachairoj\, Director - Corporate Marketing\, WHA Group\n\n\n\n  8.40 am     EEC's Outlook for 2019 Thai Aerospace Market \n\n                    Supanit Chantarasiri\, Executive Director\, Infrastructure Management Group\, Eastern\n\n                    Economic Corridor\n\n\n\n  9.10 am     Opportunities and Growth of Aerospace Industry in Thailand\n\n                    Warayu Pradipasen\, Manager of Aviation Industry Promotion Department\, The Civil Aviation\n\n                    Authority of Thailand\n\n\n\n  9.50 am     Aviation & Aerospace Industry Opportunities\n\n                    Andrea Spiriti\, President\, Italian Aerospace Network (IAN)\n\n\n\n  10.15 am   Quality System for Aerospace Players\n\n                    Luigi Fiato\, Director of Certification Asia Region\, RINA\n\n\n\n  10.40 am   Coffee Break\n\n\n\n  10.55 am   EASA Training\, Quality and Compliance Monitoring System\n\n                    Enrico Foresto\, CEO\, Oxygen Labs\n\n\n\n  11.20 am   EASA Maintenance\, Repair & Overhaul\n\n                    Vincenzo Morelli\, CEO\, Airplane Technics\n\n\n\n  11.45 am   Space\, Science\, Industrial & IoT Solutions\n\n                    Andrea Cafagna\, Business Development Manager\, SITAEL\n\n\n\n  12.10 pm   Recruit & Attract Aerospace Talents \n\n                    Jacob Hoekstra\, Global CEO\, Kilpatrick Group S.A.\n\n\n\n  12.15 pm   Networking Lunch\n\n\n\n  2-5 pm       B2B Meetings between Companies and Speakers\n\nPlease pre-register a 20-minute B2B meeting. The meeting schedule will be arranged on first come first served basis.\n\n                      \n\nBooking Deadline is Friday\, March 8\, 2019\n\n\n\nThis event is held in partnership with WHA Group.
X-ALT-DESC;FMTTYPE=text/html:<p><br />\n<a href="http://www.wha-industrialestate.com/en/upcoming-events/3000/2019-workshop-b2b-on-thailand-path-to-aerospace"><span style="color: rgb(0\, 0\, 128)\;"><strong>REGISTER NOW</strong></span></a><br />\n<br />\nAMCHAM Thailand and WHA Group are pleased to invite you to join&nbsp\;<strong>2019 Workshop &amp\; B2B on Thailand: Path to Aerospace.</strong></p>\n\n<p>Following the success achieved by the 2018 Workshop\, &quot\;Thailand: Path to Aerospace&quot\; makes its return with an enriched program to give its participants an even more comprehensive understanding on how to become a qualified aerospace supplier.<br />\n&nbsp\;<br />\nThe 2019 Workshop &amp\; B2B edition is co-organized by WHA Group and Italian Aerospace Network (IAN)\, co-promoted by AMCHAM Thailand\, Thai-European Business Association (TEBA) and Thai-Italian&nbsp\;Chamber of Commerce (TICC) and supported by the Eastern Economic Corridor office of Thailand (EEC) and the Civil Aviation Authority of Thailand (CAAT).<br />\n&nbsp\;<br />\nThe workshop program (conducted in Thai) brings international experts to Thailand to&nbsp\;speak on all of the topics a company should consider when entering the aerospace industry:</p>\n\n<ul>\n	<li>Trends in the aviation and aerospace industry\;</li>\n	<li>Opportunities for companies in international markets (and how to grab them)\;</li>\n	<li>Analysis of areospace industry management systems that can help companies succeed in becoming a strategic supplier\;</li>\n	<li>How to recruit experienced aerospace&nbsp\;executives and&nbsp\;partnerships across the globe to make a company a more experienced aerospace player\;</li>\n	<li>How to align your company to the EASA approach in the quality and compliance monitoring system\, initial airworthiness\, continuing airworthiness\, air operation\, training\, safety management system\, avionic integrated system\, maintenance\, maintenance\, repair and overhaul (MRO)\;</li>\n	<li>Engage the global forefront of technology with high-reliability solutions for safety critical applications\, the emerging field of Internet of Things and the world of instrumentation for space and scientific applications.</li>\n</ul>\n\n<p>The workshop is followed by a networking lunch and&nbsp\;B2B meetings (20 minutes for each session) between pre-registered Thai delegates and speakers&nbsp\;to create an initial point of contact and establish direct communication channels between key stakeholders.<br />\n&nbsp\;&nbsp\;<br />\nDownload:&nbsp\; <a href="http://e-connection.wha-group.com/2019_connections/Feb_19/Agenda-Thailand%20Path%20To%20Aerospace%20Workshop_March%2021st%202019.pdf" target="_blank">Full Agenda &amp\; Registration Form</a><br />\n&nbsp\;&nbsp\;&nbsp\;&nbsp\;&nbsp\;&nbsp\;&nbsp\;&nbsp\;&nbsp\;&nbsp\;&nbsp\;&nbsp\;&nbsp\;&nbsp\;&nbsp\;&nbsp\;<br />\nAgenda<br />\n&nbsp\; 8.00&nbsp\;am&nbsp\;&nbsp\;&nbsp\;&nbsp\; Registration</p>\n\n<p>&nbsp\; 8.30 am&nbsp\;&nbsp\;&nbsp\;&nbsp\; <strong>Welcome Remarks </strong><br />\n&nbsp\;&nbsp\;&nbsp\;&nbsp\;&nbsp\;&nbsp\;&nbsp\;&nbsp\;&nbsp\;&nbsp\;&nbsp\;&nbsp\;&nbsp\;&nbsp\;&nbsp\;&nbsp\;&nbsp\;&nbsp\;&nbsp\;&nbsp\;Ms. Siyaphas Chantachairoj\,&nbsp\;Director - Corporate Marketing\, WHA Group<br />\n<br />\n&nbsp\; 8.40&nbsp\;am&nbsp\;&nbsp\;&nbsp\;&nbsp\; <strong>EEC&#39\;s Outlook for 2019 Thai Aerospace Market</strong>&nbsp\;<br />\n&nbsp\; &nbsp\; &nbsp\; &nbsp\; &nbsp\; &nbsp\; &nbsp\; &nbsp\; &nbsp\; &nbsp\; Supanit Chantarasiri\, Executive Director\, Infrastructure Management Group\,&nbsp\;Eastern<br />\n&nbsp\;&nbsp\;&nbsp\;&nbsp\;&nbsp\;&nbsp\;&nbsp\;&nbsp\;&nbsp\;&nbsp\;&nbsp\;&nbsp\;&nbsp\;&nbsp\;&nbsp\;&nbsp\;&nbsp\;&nbsp\;&nbsp\; Economic Corridor<br />\n<br />\n&nbsp\; 9.10 am&nbsp\;&nbsp\;&nbsp\;&nbsp\; <strong>Opportunities and Growth of Aerospace Industry in Thailand</strong><br />\n&nbsp\; &nbsp\; &nbsp\; &nbsp\; &nbsp\; &nbsp\; &nbsp\; &nbsp\; &nbsp\; &nbsp\; Warayu Pradipasen\, Manager of Aviation Industry Promotion Department\,&nbsp\;The Civil Aviation<br />\n&nbsp\;&nbsp\;&nbsp\;&nbsp\;&nbsp\;&nbsp\;&nbsp\;&nbsp\;&nbsp\;&nbsp\;&nbsp\;&nbsp\;&nbsp\;&nbsp\;&nbsp\;&nbsp\;&nbsp\;&nbsp\;&nbsp\; Authority of Thailand<br />\n<br />\n&nbsp\; 9.50&nbsp\;am&nbsp\;&nbsp\;&nbsp\;&nbsp\; <strong>Aviation &amp\; Aerospace Industry Opportunities</strong><br />\n&nbsp\; &nbsp\; &nbsp\; &nbsp\; &nbsp\; &nbsp\; &nbsp\; &nbsp\; &nbsp\; &nbsp\; Andrea Spiriti\, President\,&nbsp\;<a href="http://www.itaerospacenetwork.it">Italian Aerospace Network (IAN)</a><br />\n<br />\n&nbsp\; 10.15&nbsp\;am&nbsp\;&nbsp\; Quality System for Aerospace Players<br />\n&nbsp\; &nbsp\; &nbsp\; &nbsp\; &nbsp\; &nbsp\; &nbsp\; &nbsp\; &nbsp\; &nbsp\; Luigi Fiato\, Director of Certification Asia Region\,&nbsp\;<a href="http://www.rina.org">RINA</a><br />\n<br />\n&nbsp\; 10.40&nbsp\;am&nbsp\;&nbsp\; Coffee Break<br />\n<br />\n&nbsp\; 10.55&nbsp\;am&nbsp\;&nbsp\; <strong>EASA Training\, Quality and Compliance Monitoring System</strong><br />\n&nbsp\; &nbsp\; &nbsp\; &nbsp\; &nbsp\; &nbsp\; &nbsp\; &nbsp\; &nbsp\; &nbsp\; Enrico Foresto\,&nbsp\;CEO\,&nbsp\;<a href="http://www.oxygenlabs.eu">Oxygen Labs</a><br />\n<br />\n&nbsp\; 11.20&nbsp\;am&nbsp\;&nbsp\; <strong>EASA Maintenance\, Repair &amp\; Overhaul</strong><br />\n&nbsp\;&nbsp\;&nbsp\;&nbsp\;&nbsp\;&nbsp\;&nbsp\;&nbsp\;&nbsp\;&nbsp\;&nbsp\;&nbsp\;&nbsp\;&nbsp\;&nbsp\;&nbsp\;&nbsp\;&nbsp\;&nbsp\;&nbsp\;Vincenzo Morelli\, CEO\,&nbsp\;<a href="http://www.airplanetechnics.com">Airplane Technics</a><br />\n<br />\n&nbsp\; 11.45&nbsp\;am&nbsp\;&nbsp\; <strong>Space\, Science\, Industrial &amp\; IoT Solutions</strong><br />\n&nbsp\;&nbsp\;&nbsp\;&nbsp\;&nbsp\;&nbsp\;&nbsp\;&nbsp\;&nbsp\;&nbsp\;&nbsp\;&nbsp\;&nbsp\;&nbsp\;&nbsp\;&nbsp\;&nbsp\;&nbsp\;&nbsp\;&nbsp\;Andrea Cafagna\, Business Development Manager\,&nbsp\;<a href="http://www.sitael.com">SITAEL</a><br />\n<br />\n&nbsp\; 12.10&nbsp\;pm&nbsp\;&nbsp\; <strong>Recruit &amp\; Attract Aerospace Talents&nbsp\;</strong><br />\n&nbsp\; &nbsp\; &nbsp\; &nbsp\; &nbsp\; &nbsp\; &nbsp\; &nbsp\; &nbsp\; &nbsp\; Jacob Hoekstra\, Global CEO\,&nbsp\;<a href="http://www.kilpatrick.one">Kilpatrick Group S.A.</a><br />\n<br />\n&nbsp\; 12.15&nbsp\;pm&nbsp\;&nbsp\; Networking Lunch<br />\n<br />\n&nbsp\; 2-5 pm&nbsp\;&nbsp\;&nbsp\;&nbsp\;&nbsp\;&nbsp\; <strong>B2B Meetings between Companies and Speakers</strong></p>\n\n<p>Please pre-register a 20-minute B2B meeting. The meeting schedule will be arranged on first come first served basis.<br />\n&nbsp\; &nbsp\;&nbsp\;&nbsp\;&nbsp\;&nbsp\;&nbsp\;&nbsp\;&nbsp\;&nbsp\;&nbsp\;&nbsp\;&nbsp\;&nbsp\;&nbsp\;&nbsp\;&nbsp\;&nbsp\;&nbsp\; &nbsp\;<br />\nBooking Deadline is Friday\,&nbsp\;March 8\, 2019<br />\n<br />\nThis event is held&nbsp\;in partnership with WHA Group.</p>\n
LOCATION:3rd Floor Meeting Room\, Pattana Golf and Sport Resort\, Chonburi
UID:e.3314.272
SEQUENCE:3
DTSTAMP:20260423T221207Z
URL:https://connect.amchamthailand.com/events/details/partner-event-wha-2019-workshop-b2b-on-thailand-path-to-aerospace-272
END:VEVENT

END:VCALENDAR
