BEGIN:VCALENDAR
VERSION:2.0
PRODID:-//ChamberMaster//Event Calendar 2.0//EN
METHOD:PUBLISH
X-PUBLISHED-TTL:P3D
REFRESH-INTERVAL:P3D
CALSCALE:GREGORIAN
BEGIN:VEVENT
DTSTART:20190328T050000Z
DTEND:20190328T073000Z
X-MICROSOFT-CDO-ALLDAYEVENT:FALSE
SUMMARY:Partner Event: Vriens & Partners Regional Update: Vietnam\, Myanmar & Malaysia
DESCRIPTION:Join us for lunch as Vriens & Partners' consultants provide the latest insights and updates on developments from among Thailand's neighbours. In this interactive Q&A panel session\, we discuss the political context\, business outlook and investment climate in Vietnam\, Myanmar and Malaysia\, and what this means for your business.\n\n \n\nPanelists\n\n	Moderator: Hans Vriens\, Managing Partner\n	Vo Lan Phuong\, Managing Director\, Vietnam\n	Samuel Pursch\, Associate Director\, Vietnam\n	Jeremy Mullins\, Incoming Country Director\, Myanmar\n	Greg Arnold\, Associate\, Myanmar\n	Nazhif Yusoff\, Senior Associate\, Malaysia\n\nAgenda\n\n12 noon          Registration\n\n12:30 pm        Door opened / Lunch served\n\n1 pm               Panel Discussion and Q&A\n\n2:00 pm          Photo Opportunity\n\n2:15 pm          End\n\n\n\nAbout Vriens & Partners\n\nVriens & Partners is one of Southeast Asia's leading government affairs consultancies\, with 70 consultants and 30 senior counsellors across 8 offices in capitals around the region. They deliver nuanced and effective government affairs strategies built on trusted relationships with the highest levels of government\, and with stakeholders along the entire policymaking chain.\n\n \n\nThe firm provides independent appraisals of the political risk associated with existing and potential investments\, expert analysis of public policy issues and strategies for engaging local stakeholders. The team is composed of Asia experts with extensive experience providing counsel to companies and organizations. Beyond Singapore\, they have offices in Jakarta\, Kuala Lumpur\, Bangkok\, Hanoi\, Manila\, Yangon and Phnom Penh.
X-ALT-DESC;FMTTYPE=text/html:Join us for lunch as Vriens &amp\; Partners&rsquo\; consultants provide the latest insights and updates on developments from among Thailand&rsquo\;s neighbours. In this interactive Q&amp\;A panel session\, we discuss the political context\, business outlook and investment climate in Vietnam\, Myanmar and Malaysia\, and what this means for your business.<br />\n&nbsp\;<br />\n<strong>Panelists</strong>\n<ul>\n	<li><u>Moderator:</u> Hans Vriens\, Managing Partner</li>\n	<li>Vo Lan Phuong\, Managing Director\, Vietnam</li>\n	<li>Samuel Pursch\, Associate Director\, Vietnam</li>\n	<li>Jeremy Mullins\, Incoming Country Director\, Myanmar</li>\n	<li>Greg Arnold\, Associate\, Myanmar</li>\n	<li>Nazhif Yusoff\, Senior Associate\, Malaysia</li>\n</ul>\n<strong>Agenda</strong><br />\n12 noon&nbsp\;&nbsp\;&nbsp\;&nbsp\;&nbsp\;&nbsp\;&nbsp\;&nbsp\;&nbsp\; Registration<br />\n12:30 pm&nbsp\;&nbsp\;&nbsp\;&nbsp\;&nbsp\;&nbsp\;&nbsp\; Door opened / Lunch served<br />\n1 pm&nbsp\;&nbsp\;&nbsp\;&nbsp\;&nbsp\;&nbsp\;&nbsp\;&nbsp\;&nbsp\;&nbsp\;&nbsp\;&nbsp\;&nbsp\;&nbsp\; Panel Discussion and Q&amp\;A<br />\n2:00 pm&nbsp\;&nbsp\;&nbsp\;&nbsp\;&nbsp\;&nbsp\;&nbsp\;&nbsp\;&nbsp\; Photo Opportunity<br />\n2:15 pm&nbsp\;&nbsp\;&nbsp\;&nbsp\;&nbsp\;&nbsp\;&nbsp\;&nbsp\;&nbsp\; End<br />\n<br />\n<strong>About Vriens &amp\; Partners</strong><br />\nVriens &amp\; Partners is one of Southeast Asia&rsquo\;s leading government affairs consultancies\, with 70 consultants and 30 senior counsellors across 8 offices in capitals around the region. They deliver nuanced and effective government affairs strategies built on trusted relationships with the highest levels of government\, and with stakeholders along the entire policymaking chain.<br />\n&nbsp\;<br />\nThe firm provides independent appraisals of the political risk associated with existing and potential investments\, expert analysis of public policy issues and strategies for engaging local stakeholders. The team is composed of Asia experts with extensive experience providing counsel to companies and organizations. Beyond Singapore\, they have offices in Jakarta\, Kuala Lumpur\, Bangkok\, Hanoi\, Manila\, Yangon and Phnom Penh.
LOCATION:The Athenee Hotel\, London Room\, 2nd Floor BTS: Ploenchit
UID:e.3314.280
SEQUENCE:3
DTSTAMP:20260423T221440Z
URL:https://connect.amchamthailand.com/events/details/partner-event-vriens-partners-regional-update-vietnam-myanmar-malaysia-280
END:VEVENT

END:VCALENDAR
