BEGIN:VCALENDAR
VERSION:2.0
PRODID:-//ChamberMaster//Event Calendar 2.0//EN
METHOD:PUBLISH
X-PUBLISHED-TTL:P3D
REFRESH-INTERVAL:P3D
CALSCALE:GREGORIAN
BEGIN:VEVENT
DTSTART:20190222T003000Z
DTEND:20190222T070000Z
X-MICROSOFT-CDO-ALLDAYEVENT:FALSE
SUMMARY:Partner Event: Tech Spartan 2019 - Pioneering your Enterprise with AI
DESCRIPTION:REGISTER NOW \n\n\n\nYou are invited to join Tech Spartan 2019: Pioneering your Enterprise with AI. Come hear top executives speak about how their enterprises implement innovative AI technologies and challenge your own understanding of possibilities. Connect with experts and top executives across various industries including supply chain\, finance and banking\, technology\, education and others.\n\n \n\nProgram content is designed for C-level executives and key decision makers\, as well as government or private enterprises developing artificial intelligence projects. Detailed agenda available here.\n\n\n\nAll contents are in English. Thai translation service provided on site.
X-ALT-DESC;FMTTYPE=text/html:<br />\n<strong><span style="color: rgb(0\, 0\, 128)\;"><a href="https://goo.gl/Z8h327">REGISTER NOW</a>&nbsp\;</span></strong><br />\n<br />\nYou are invited to join Tech Spartan 2019: Pioneering your Enterprise with AI. Come hear top executives speak about how their enterprises implement innovative AI technologies and challenge your own understanding of possibilities. Connect with experts and top executives across various industries including supply chain\, finance and banking\, technology\, education and others.<br />\n&nbsp\;<br />\nProgram content is designed for C-level executives and key decision makers\, as well as government or private enterprises developing artificial intelligence projects. Detailed agenda available <a href="https://docs.google.com/forms/d/e/1FAIpQLSfYkoHW834NncNEqHk0jmK09G9J2X0CWi_ATsfMR3n9lm2iPQ/viewform">here</a>.<br />\n<br />\nAll contents are in English. Thai translation service provided on site.<br />\n&nbsp\;\n<h3 data-fontsize="18" data-lineheight="27">&nbsp\;</h3>\n
LOCATION:C asean\, 10th floor\, CW Tower\, Ratchadapisek Nearest MRT: Thailand Cultural Center station
UID:e.3314.238
SEQUENCE:3
DTSTAMP:20260424T000322Z
URL:https://connect.amchamthailand.com/events/details/partner-event-tech-spartan-2019-pioneering-your-enterprise-with-ai-238
END:VEVENT

END:VCALENDAR
