BEGIN:VCALENDAR
VERSION:2.0
PRODID:-//ChamberMaster//Event Calendar 2.0//EN
METHOD:PUBLISH
X-PUBLISHED-TTL:P3D
REFRESH-INTERVAL:P3D
CALSCALE:GREGORIAN
BEGIN:VEVENT
DTSTART:20191009T090000Z
DTEND:20191009T110000Z
X-MICROSOFT-CDO-ALLDAYEVENT:FALSE
SUMMARY:New Member Orientation - AMCHAM 101
DESCRIPTION:ONLINE REGISTRATION CLOSED.  WALK-IN WELCOME.\n\nCome join us and learn how to make the most of your AMCHAM membership. This Orientation Meeting is the perfect opportunity for all members   old and new   to gain valuable insight into all of our benefits\, events\, and exclusive Chamber offerings.\n\n \n\nWith over 250+ events throughout the year\, we offer a wide range of business services\, provide an exclusive platform for professional networking\, and cultivate a robust environment for business promotion. This session is open to all AMCHAM Thailand members who are interested in getting involved with the international business community\, in Bangkok.\n\n\n\nThe meeting is followed by the regular monthly networking night. Please register separately for both events.
X-ALT-DESC;FMTTYPE=text/html:<p background-color:="" font-size:="" trebuchet=""><strong>ONLINE REGISTRATION CLOSED.&nbsp\; WALK-IN WELCOME.</strong></p>\n\n<p background-color:="" font-size:="" trebuchet="">Come join us and learn how to make the most of your AMCHAM membership. This Orientation Meeting is the perfect opportunity for all members &ndash\; old and new &ndash\; to gain valuable insight into all of our benefits\, events\, and exclusive Chamber offerings.<br />\n&nbsp\;<br />\nWith over 250+ events throughout the year\, we offer a wide range of business services\, provide an exclusive platform for professional networking\, and cultivate a robust environment for business promotion. This session is open to all AMCHAM Thailand members who are interested in getting involved with the international business community\, in Bangkok.<br />\n<br />\nThe meeting is followed by the regular monthly networking night. Please register separately for both events.<br />\n&nbsp\;</p>\n
LOCATION:Ramada Plaza Menam Riverside Hotel\, Four Rivers room 2074 Charoenkrung Road BTS Saphan Taksin (shuttle boats depart the hotel every 30 minutes on the hour and half hour and will depart from Saphan Thaksin approximately 10 minutes after)
UID:e.3314.334
SEQUENCE:3
DTSTAMP:20260423T085315Z
URL:https://connect.amchamthailand.com/events/details/new-member-orientation-amcham-101-334
END:VEVENT

END:VCALENDAR
