BEGIN:VCALENDAR
VERSION:2.0
PRODID:-//ChamberMaster//Event Calendar 2.0//EN
METHOD:PUBLISH
X-PUBLISHED-TTL:P3D
REFRESH-INTERVAL:P3D
CALSCALE:GREGORIAN
BEGIN:VEVENT
DTSTART:20181121T050000Z
DTEND:20181121T070000Z
X-MICROSOFT-CDO-ALLDAYEVENT:FALSE
SUMMARY:Multi-Chambers Luncheon: Minister of Tourism and Sports
DESCRIPTION:REGISTER HERE\n\n\n\nSolving the Current Tourism Crisis: What Actions are to be Taken?\n\n\n\nAMCHAM together with BCCT\, AustCham\, BeLuThai\, EABC\, FTCC\, NTCC\, and NZTCC cordially invites you to a Multi-Chamber Luncheon. Tourism in Thailand is facing one of its toughest periods in recent years with the collapse of the Chinese market\, and growing questions on the safety and security of tourists and the challenges arrivals face at immigration.\n\n\n\nH.E. Khun Weerasak Kowsurat\, Minister for Tourism and Sports will address the issues and share with us government plans to address the issues at hand going forward.
X-ALT-DESC;FMTTYPE=text/html:<strong><a href="https://members.bccthai.com/BCCT/asp/eventdetail.asp?EventID=3348&amp\;SponsorID=-1"><span style="color:#000080\;">REGISTER HERE</span></a><br />\n<br />\nSolving the Current Tourism Crisis: What Actions are to be Taken?</strong><br />\n<br />\nAMCHAM together with BCCT\, AustCham\, BeLuThai\, EABC\, FTCC\, NTCC\, and NZTCC cordially invites you to a Multi-Chamber Luncheon.&nbsp\;Tourism in Thailand is facing one of its toughest periods in recent years with the collapse of the Chinese market\, and growing questions on the safety and security of tourists and the challenges arrivals face at immigration.<br />\n<br />\nH.E.&nbsp\;Khun&nbsp\;Weerasak&nbsp\;Kowsurat\, Minister for Tourism and Sports will address the issues and share with us government plans to address the issues at hand going forward.&nbsp\;
LOCATION:Banyan Tree Bangkok Banyan 1\, 10th Floor MRT: Lumpini
UID:e.3314.89
SEQUENCE:3
DTSTAMP:20260424T044313Z
URL:https://connect.amchamthailand.com/events/details/multi-chambers-luncheon-minister-of-tourism-and-sports-89
END:VEVENT

END:VCALENDAR
