BEGIN:VCALENDAR
VERSION:2.0
PRODID:-//ChamberMaster//Event Calendar 2.0//EN
METHOD:PUBLISH
X-PUBLISHED-TTL:P3D
REFRESH-INTERVAL:P3D
CALSCALE:GREGORIAN
BEGIN:VEVENT
DTSTART:20190215T113000Z
DTEND:20190215T140000Z
X-MICROSOFT-CDO-ALLDAYEVENT:FALSE
SUMMARY:Multi-Chambers ESB Networking hosted by BCCT
DESCRIPTION:Looking for a great place to network on the Eastern Seaboard in a friendly social environment? Then come along to the Eastern Seaboard Multi-Chamber Networking event in Pattaya. The event is hosted by the British Chamber of Commerce Thailand (BCCT).\n\nTransport: BCCT is organizing transportation\, leaving from Bangkok at 3.00 pm (sharp) to Pattaya and returning the same night after the event. To book\, please send an email to urosesri@bccthai.com before 5 pm on Wednesday\, February 13. Cost is THB 500 per person. \n\nAccommodation: Special room rates at Renaissance Pattaya Resort & Spa are available at 4\,000 Baht++ (Deluxe Single) and 4\,400 Baht++ (Deluxe Double). For reservations\, please contact Khun Patchayapa at Patchayapa.w@renaissancepattaya.com or call 038-259-099. \n\n\n\nBooking deadline: February 14\, 12 noon.
X-ALT-DESC;FMTTYPE=text/html:<p>Looking for a great place to network on the Eastern Seaboard in a friendly social environment? Then come along to the Eastern Seaboard Multi-Chamber Networking event in Pattaya. The event is hosted by the British Chamber of Commerce Thailand (BCCT).</p>\n\n<p>Transport: BCCT is organizing transportation\, leaving from Bangkok at 3.00 pm (sharp) to Pattaya and returning the same night after the event. To book\, please send an email to urosesri@bccthai.com&nbsp\;before 5 pm on Wednesday\, February 13.&nbsp\;Cost is THB 500 per person.&nbsp\;</p>\n\n<p>Accommodation: Special room rates at Renaissance Pattaya Resort &amp\; Spa are available at 4\,000 Baht++ (Deluxe Single) and 4\,400 Baht++ (Deluxe Double). For reservations\, please contact Khun Patchayapa at Patchayapa.w@renaissancepattaya.com or call 038-259-099.&nbsp\;</p>\n\n<p><br />\nBooking deadline: February 14\, 12 noon.</p>\n
LOCATION:The Deck\, Renaissance Pattaya Resort & Spa\, Pattaya City\, Chonburi
UID:e.3314.218
SEQUENCE:3
DTSTAMP:20260423T235503Z
URL:https://connect.amchamthailand.com/events/details/multi-chambers-esb-networking-hosted-by-bcct-218
END:VEVENT

END:VCALENDAR
