BEGIN:VCALENDAR
VERSION:2.0
PRODID:-//ChamberMaster//Event Calendar 2.0//EN
METHOD:PUBLISH
X-PUBLISHED-TTL:P3D
REFRESH-INTERVAL:P3D
CALSCALE:GREGORIAN
BEGIN:VEVENT
DTSTART:20190315T110000Z
DTEND:20190315T140000Z
X-MICROSOFT-CDO-ALLDAYEVENT:FALSE
SUMMARY:Multi-Chambers ESB hosted by AustCham
DESCRIPTION:The Australian-Thai Chamber of Commerce (AustCham)\, in collaboration with partner chambers\, welcomes members and guests to AustCham's Eastern Seaboard Sundowners held on Friday 15 March 2019. \n\nAll those living on the Eastern Seaboard or who travel there for business are welcome to attend this event which is a great opportunity to network with others who live and work within the region.\n\nOur event sponsors from Bangkok Hospital Pattaya\, a premier tertiary healthcare provider in Pattaya\, will be attending the event and will be available to answer questions about their  facilities.\n\nMembers and guests will also be able to enjoy a delicious choice of local and international dishes and friendly atmosphere at the new rooftop bar of the Mytt Beach Hotel\, located in the heart of North Pattaya.\n\nWe look forward to seeing you there!
X-ALT-DESC;FMTTYPE=text/html:<p style="line-height:15.75pt"><span style="font-size:14px\;"><span style="font-family:arial\;"><span style="color: rgb(40\, 40\, 40)\;">The Australian-Thai Chamber of Commerce (AustCham)\,&nbsp\;in collaboration with partner chambers\,&nbsp\;welcomes members and guests to AustCham&#39\;s Eastern Seaboard Sundowners held on Friday 15 March 2019.&nbsp\;</span></span></span><span style="font-size:10.5pt\;font-family:&quot\;Open Sans&quot\;\,sans-serif\;color:#282828"><o:p></o:p></span></p>\n\n<p style="line-height:15.75pt"><span style="font-size:14px\;"><span style="font-family:arial\;"><span style="color: rgb(40\, 40\, 40)\;">All those living on the Eastern Seaboard or who travel there for business are welcome to attend this event which is a great opportunity to network with others who live and work within the region.</span></span></span><span style="font-size:10.5pt\;font-family:&quot\;Open Sans&quot\;\,sans-serif\;color:#282828"><o:p></o:p></span></p>\n\n<p style="line-height:15.75pt"><span style="font-size:14px\;"><span style="font-family:arial\;"><span style="color: rgb(40\, 40\, 40)\;">Our event sponsors from Bangkok Hospital Pattaya\,&nbsp\;a premier tertiary healthcare provider in Pattaya\,&nbsp\;will be attending the event and will be available to answer questions about their&nbsp\; facilities.</span></span></span><span style="font-size:10.5pt\;font-family:&quot\;Open Sans&quot\;\,sans-serif\;color:#282828"><o:p></o:p></span></p>\n\n<p style="line-height:15.75pt"><span style="font-size:14px\;"><span style="font-family:arial\;"><span style="color: rgb(40\, 40\, 40)\;">Members and guests will also be able to enjoy a delicious choice of local and international dishes and friendly atmosphere at the new rooftop bar of the Mytt Beach Hotel\, located in the heart of North Pattaya.</span></span></span><span style="font-size:10.5pt\;font-family:&quot\;Open Sans&quot\;\,sans-serif\;color:#282828"><o:p></o:p></span></p>\n\n<p style="line-height:15.75pt"><span style="font-size:14px\;"><span style="font-family:arial\;"><span style="color: rgb(40\, 40\, 40)\;">We look forward to seeing you there!&nbsp\;</span></span></span></p>\n
LOCATION:Mytt Beach Hotel\, Pattaya
UID:e.3314.275
SEQUENCE:3
DTSTAMP:20260423T221017Z
URL:https://connect.amchamthailand.com/events/details/multi-chambers-esb-hosted-by-austcham-275
END:VEVENT

END:VCALENDAR
