BEGIN:VCALENDAR
VERSION:2.0
PRODID:-//ChamberMaster//Event Calendar 2.0//EN
METHOD:PUBLISH
X-PUBLISHED-TTL:P3D
REFRESH-INTERVAL:P3D
CALSCALE:GREGORIAN
BEGIN:VEVENT
DTSTART:20200221T100000Z
DTEND:20200221T110000Z
X-MICROSOFT-CDO-ALLDAYEVENT:FALSE
SUMMARY:Multi Chambers ESB Briefing On Thai Labour Law\, Work Permits And Visas Update hosted by BCCT
DESCRIPTION:The Greek philosopher Heraclitus is famous for quoting "change is the only constant in life."  Anyone who has lived in Thailand for an extended period of time can appreciate that the regulations and enforcement of Thai labor law\, visas and work permits regularly changes from time to time without warning. And few things can be more personally affecting as an expatriate than free movement and work where you live. After more than 23 years in the Kingdom\, John Casella (Partner at PKF Thailand) will offer a seasoned perspective on the recent updates\, changes\, and trends concerning "Thai labor law\, work permits and visas."\n\n\n\nOur Speakers:\n\n- John Casella\, Partner\, PKF Thailand (profile)\n\n- Chutinun Wannapirun\, Director\, Corporate Legal Services\, PKF Thailand (profile)\n \nThis event is sponsored by International School Bangkok\, VERSO International School\, BASIS International School Bangkok and The Village International Education Centre\n\n\n\nFor booking please click HERE or contact: banthita@bccthai.com
X-ALT-DESC;FMTTYPE=text/html:<div>The Greek philosopher Heraclitus is famous for quoting &quot\;change is the only constant in life.&quot\;&nbsp\; Anyone who has lived in Thailand for an extended period of time can appreciate that the regulations and enforcement of Thai labor law\, visas and work permits regularly changes from time to time without warning. And few things can be more personally affecting as an expatriate than free movement and work where you live. After more than 23 years in the Kingdom\, John Casella (Partner at PKF Thailand) will offer a seasoned perspective on the recent updates\, changes\, and trends concerning &quot\;Thai labor law\, work permits and visas.&quot\;<br />\n<br />\n<strong>Our Speakers:</strong><br />\n- John Casella\, Partner\, PKF Thailand <a href="https://members.bccthai.com/asp/view_doc.asp?DocCID=3602">(profile)</a><br />\n- Chutinun Wannapirun\, Director\, Corporate Legal Services\, PKF Thailand <a href="https://members.bccthai.com/asp/view_doc.asp?DocCID=3604">(profile)</a>\n<div>&nbsp\;</div>\nThis event is sponsored by&nbsp\;<a href="https://www.isb.ac.th/">International School Bangkok</a>\,&nbsp\;<a href="https://www.verso.school/">VERSO International School</a>\,&nbsp\;<a href="https://basisinternationalbkk.com/">BASIS International School Bangkok</a>&nbsp\;and&nbsp\;<a href="https://www.village-education.com/">The Village International Education Centre</a><br />\n<br />\n<span style="color:#FF0000\;"><em>For booking please click <a href="https://members.bccthai.com/BCCT/asp/eventbook.asp?member=N&amp\;EventID=3568">HERE</a> or contact: banthita@bccthai.com&nbsp\;</em></span></div>\n
LOCATION:Lighthouse room\, 23th Floor\, Siam@Siam on Pattaya Sai 2 Road. Map
UID:e.3314.1533
SEQUENCE:3
DTSTAMP:20260423T040848Z
URL:https://connect.amchamthailand.com/events/details/multi-chambers-esb-briefing-on-thai-labour-law-work-permits-and-visas-update-hosted-by-bcct-1533
END:VEVENT

END:VCALENDAR
