BEGIN:VCALENDAR
VERSION:2.0
PRODID:-//ChamberMaster//Event Calendar 2.0//EN
METHOD:PUBLISH
X-PUBLISHED-TTL:P3D
REFRESH-INTERVAL:P3D
CALSCALE:GREGORIAN
BEGIN:VEVENT
DTSTART:20220902T110000Z
DTEND:20220902T140000Z
X-MICROSOFT-CDO-ALLDAYEVENT:FALSE
SUMMARY:Multi-Chamber Networking in Hua Hin hosted by BCCT
DESCRIPTION:BCCT\, in cooperation with AMCHAM\, AustCham\, BeLuThai\, CanCham\, FTCC\, GTCC\, ITCC\, NTCC & STCC\, cordially invites you to BCCT Multi-Chamber Networking in Hua Hin.\n\n\n\nPlease note that this event is hosted by BCCT and event requirements may differ from AMCHAM. Clicking the link will bring you to their registration page and away from the AMCHAM website.\n\nREGISTER NOW
X-ALT-DESC;FMTTYPE=text/html:<p>BCCT\, in cooperation with AMCHAM\, AustCham\, BeLuThai\, CanCham\, FTCC\, GTCC\, ITCC\, NTCC &amp\; STCC\,&nbsp\;cordially invites you to BCCT Multi-Chamber Networking in Hua Hin.<br />\n<br />\nPlease note that this event is hosted by BCCT and event requirements may&nbsp\;differ from AMCHAM. Clicking the link will bring you to their registration page and away from the AMCHAM website.</p>\n\n<p><span style="font-size:16px\;"><span style="font-family:arial\;"><strong><span style="color:#000080\;"><a href="https://members.bccthai.com/bcct/asp/eventbook.asp?member=N&amp\;EventID=3887">REGISTER NOW</a></span></strong></span></span><br />\n<br />\n&nbsp\;</p>\n
LOCATION:The Standard\, Hua Hin
UID:e.3314.2273
SEQUENCE:3
DTSTAMP:20260420T175948Z
URL:https://connect.amchamthailand.com/events/details/multi-chamber-networking-in-hua-hin-hosted-by-bcct-2273
END:VEVENT

END:VCALENDAR
