BEGIN:VCALENDAR
VERSION:2.0
PRODID:-//ChamberMaster//Event Calendar 2.0//EN
METHOD:PUBLISH
X-PUBLISHED-TTL:P3D
REFRESH-INTERVAL:P3D
CALSCALE:GREGORIAN
BEGIN:VEVENT
DTSTART:20220520T100000Z
DTEND:20220520T110000Z
X-MICROSOFT-CDO-ALLDAYEVENT:FALSE
SUMMARY:Multi-Chamber Joint HR & Manufacturing Committees: Translating Engagement into Value - Talent Attraction & Retention Strategies for Manufacturers
DESCRIPTION:The manufacturing industry has been plagued with high turnover rates of up to 30% in recent years. In Thailand\, The Great Resignation continues to see employees quit in this uncertain job market with resignations being the main reason of unemployment (66%). In an industry that is so dependent on its workforce to deliver productivity\, attracting and retaining talent is essential to maintaining a strong workforce. Organizations that think holistically about their employee engagement will have an edge over their counterparts and win in this war for talent. Join us in AMCHAM's first Manufacturing/HR ESB event as we host an in-person panel session covering:\n\n \n\n\n	How do you compete in a post-pandemic war for talent?\n	How can manufacturers build a winning Employer Value Proposition to engage workers that make up the majority of its workforce?\n	What does it mean to translate engagement into business value?\n\n\n \n\nOur speakers:\n\n \n\nMartin Sørensen\, Chief Executive Officer (Thailand)\, Workmate\n\n\n\nBen Dobbs\, Plant Managing Director\,  Alliance Laundry Systems
X-ALT-DESC;FMTTYPE=text/html:<p>The manufacturing industry has been plagued with high turnover rates of up to 30% in recent years. In Thailand\, The Great Resignation continues to see employees quit in this uncertain job market with resignations being the main reason of unemployment (66%). In an industry that is so dependent on its workforce to deliver productivity\, attracting and retaining talent is essential to maintaining a strong workforce. Organizations that think holistically about their employee engagement will have an edge over their counterparts and win in this war for talent. Join us in AMCHAM's first Manufacturing/HR ESB event as we host an in-person panel session covering:<br>\n&nbsp\;</p>\n\n<ul>\n	<li>How do you compete in a post-pandemic war for talent?</li>\n	<li>How can manufacturers build a winning Employer Value Proposition to engage workers that make up the majority of its workforce?</li>\n	<li>What does it mean to translate engagement into business value?</li>\n</ul>\n\n<p>&nbsp\;<br>\n<strong>Our speakers:<br>\n&nbsp\;</strong><br>\n<a href="https://www.linkedin.com/in/martintoftsorensen/"><strong>Martin Sørensen</strong></a>\, Chief Executive Officer (Thailand)\, Workmate<br>\n<br>\n<strong><a href="https://www.linkedin.com/in/bendobbs/">Ben Dobbs</a></strong>\, Plant Managing Director\,&nbsp\;&nbsp\;Alliance Laundry Systems<br>\n&nbsp\;</p>\n\n<div apple="" class="pv-text-details__left-panel\n      " color="" droid="" fira="" helvetica="" lucida="" oxygen="" segoe="" style="box-sizing: inherit\; margin: var(--artdeco-reset-base-margin-zero)\; padding: var(--artdeco-reset-base-padding-zero)\; border: var(--artdeco-reset-base-border-zero)\; font-size: 16px\; vertical-align: var(--artdeco-reset-base-vertical-align-baseline)\; max-width: calc(100% - 232px - var(--spacing-three-x))\; color: rgba(0\, 0\, 0\, 0.9)\; font-family: -apple-system\, system-ui\, BlinkMacSystemFont\, " ui="">\n<div class="text-body-medium break-words" style="box-sizing: inherit\; margin: var(--artdeco-reset-base-margin-zero)\; padding: var(--artdeco-reset-base-padding-zero)\; border: var(--artdeco-reset-base-border-zero)\; font-size: var(--font-size-medium)\; vertical-align: var(--artdeco-reset-base-vertical-align-baseline)\; background: var(--artdeco-reset-base-background-transparent)\; overflow-wrap: break-word !important\; word-break: break-word !important\; font-weight: var(--font-weight-regular)\; line-height: var(--line-height-default)\;"><br>\n&nbsp\;</div>\n</div>\n
LOCATION:Renaissance Pattaya Resort & Spa\, Ballroom B View map
UID:e.3314.2216
SEQUENCE:3
DTSTAMP:20260421T032928Z
URL:https://connect.amchamthailand.com/events/details/multi-chamber-joint-hr-manufacturing-committees-translating-engagement-into-value-talent-attraction-retention-strategies-for-manufacturers-2216
END:VEVENT

END:VCALENDAR
