BEGIN:VCALENDAR
VERSION:2.0
PRODID:-//ChamberMaster//Event Calendar 2.0//EN
METHOD:PUBLISH
X-PUBLISHED-TTL:P3D
REFRESH-INTERVAL:P3D
CALSCALE:GREGORIAN
BEGIN:VEVENT
DTSTART:20181101T113000Z
DTEND:20181101T140000Z
X-MICROSOFT-CDO-ALLDAYEVENT:FALSE
SUMMARY:Multi-Chamber Chiang Mai Connect hosted by BCCT at Hard Rock Café
DESCRIPTION:British Chamber of Commerce Thailand (BCCT)\, together with AMCHAM\, AustCham\, CanCham\, EABC\, FTCC\, NZTCC and STCC\, cordially invites you to the Multi-Chamber Chiang Mai Business Networking. Join us for a wonderful evening of making new connections and catching up with familiar faces in the Chiang Mai Business community. ALL ARE WELCOME.
X-ALT-DESC;FMTTYPE=text/html:<p><span style="font-family: verdana\,geneva\; font-size: 10pt\;">British Chamber of Commerce Thailand (BCCT)\, together with AMCHAM\,&nbsp\;AustCham\, CanCham\, EABC\, FTCC\, NZTCC and STCC\, cordially invites you to the Multi-Chamber Chiang&nbsp\;Mai Business Networking.&nbsp\;Join us for a wonderful evening of making new connections and catching up with familiar faces in the Chiang Mai Business community. <strong>ALL ARE WELCOME</strong>.</span></p>\n\n<p>&nbsp\;</p>\n
LOCATION:Venue: Hard Rock Caf Chiang Mai
UID:e.3314.72
SEQUENCE:3
DTSTAMP:20260424T044054Z
URL:https://connect.amchamthailand.com/events/details/multi-chamber-chiang-mai-connect-hosted-by-bcct-at-hard-rock-caf&#233;-72
END:VEVENT

END:VCALENDAR
