BEGIN:VCALENDAR
VERSION:2.0
PRODID:-//ChamberMaster//Event Calendar 2.0//EN
METHOD:PUBLISH
X-PUBLISHED-TTL:P3D
REFRESH-INTERVAL:P3D
CALSCALE:GREGORIAN
BEGIN:VEVENT
DTSTART:20190926T050000Z
DTEND:20190926T070000Z
X-MICROSOFT-CDO-ALLDAYEVENT:FALSE
SUMMARY:Monthly Luncheon: Influencer Marketing: What are the Experts Saying?
DESCRIPTION:AMCHAM's September Monthly Luncheon will feature a lively panel discussion between experts from major multinationals\, home-grown Thai brands\, and independent media companies on latest digital marketing trends in influencer and omni-channel marketing.\n\n\n\nIf your organization is grappling with how to keep up with the ever-changing digital marketing world\, or if you just want to learn more about where these trends may take us in the near future\, then this event is not to be missed!\n\n \n\nFirst off\, AMCHAM Committee Chair & Board Governor\, George Hartel\, Chief Commercial Officer at Supara Group\, will discuss the rapid changes in Omnichannel marketing to highlight the constant need to adapt and learn on the job in order to stay relevant. \n\n \n\nNext up\, a panel discussion moderated by David Norcross of Lexicon will explore the use of influencer marketing by some of the world's leading brands. We're very fortunate to have curated a panel of marketing gurus: Luisito Morante\, Regional Brand Communications\, Procter & Gamble Thailand.\n\n \n\nLearn tips and tricks from these captains of industry on how to identify\, select and measure the impact of influencer marketing. You will also have chance to ask questions directly as a Q&A session will follow the discussion.\n\n \n\nMENU\n\n*  Scandinavian salmon lemongrass honey gravlax\, homemade salmon pastrami\, assorted micro herbs in cherry vinegar dressing\n\n*  Slow roasted maple honey farm chicken breast\, bok choy\, carrots in clarified butter\n\n*  Cappuccino creme brulee\, crispy lemon biscotti\n\n\n\nVegetarian option available.   Please indicate when booking.
X-ALT-DESC;FMTTYPE=text/html:<p>AMCHAM&rsquo\;s September Monthly Luncheon will feature a lively panel discussion between experts from major multinationals\, home-grown Thai brands\, and independent media companies&nbsp\;on latest digital marketing trends in influencer and omni-channel marketing.<br />\n<br />\nIf your organization is grappling with how to keep up with the ever-changing digital marketing world\, or if you just want to learn more about where these trends may take us in the near future\, then this event is not to be missed!<br />\n&nbsp\;<br />\nFirst off\, AMCHAM Committee Chair &amp\; Board Governor\, George Hartel\, Chief Commercial Officer at Supara Group\, will discuss the rapid changes in Omnichannel marketing to highlight the constant need to adapt and learn on the job in order to stay relevant.&nbsp\;<br />\n&nbsp\;<br />\nNext up\, a panel discussion moderated by David Norcross of Lexicon will explore the use of influencer marketing by some of the world&#39\;s leading brands. We&#39\;re very fortunate to have curated a panel of marketing gurus: Luisito Morante\, Regional Brand Communications\, Procter &amp\; Gamble Thailand.<br />\n&nbsp\;<br />\nLearn tips and tricks from these captains of industry on how to identify\, select and measure the impact of influencer marketing. You will also have chance to ask questions directly as a Q&amp\;A session will follow the discussion.<br />\n&nbsp\;</p>\n\n<p><u><strong>MENU</strong></u><br />\n*&nbsp\; Scandinavian salmon lemongrass honey gravlax\, homemade salmon pastrami\, assorted micro herbs in cherry vinegar dressing<br />\n*&nbsp\; Slow roasted maple honey farm chicken breast\, bok choy\, carrots in clarified butter<br />\n*&nbsp\; Cappuccino creme brulee\, crispy lemon biscotti<br />\n<br />\nVegetarian option available.&nbsp\; &nbsp\;Please indicate when booking.</p>\n
LOCATION:Hotel Name: St. Regis Bangkok Hotel\, Rajadamri Road BTS Rajadamri\, direct hotel access
UID:e.3314.352
SEQUENCE:3
DTSTAMP:20260423T103553Z
URL:https://connect.amchamthailand.com/events/details/monthly-luncheon-influencer-marketing-what-are-the-experts-saying-352
END:VEVENT

END:VCALENDAR
