BEGIN:VCALENDAR
VERSION:2.0
PRODID:-//ChamberMaster//Event Calendar 2.0//EN
METHOD:PUBLISH
X-PUBLISHED-TTL:P3D
REFRESH-INTERVAL:P3D
CALSCALE:GREGORIAN
BEGIN:VEVENT
DTSTART:20190305T023000Z
DTEND:20190305T160000Z
X-MICROSOFT-CDO-ALLDAYEVENT:FALSE
SUMMARY:Michigan Association of Women Entrepreneurs Briefing
DESCRIPTION:By Invitation
X-ALT-DESC;FMTTYPE=text/html:By Invitation&nbsp\;
LOCATION:AMCHAM Office\, Citi Boardroom
UID:e.3314.191
SEQUENCE:3
DTSTAMP:20260423T221442Z
URL:https://connect.amchamthailand.com/events/details/michigan-association-of-women-entrepreneurs-briefing-191
END:VEVENT

END:VCALENDAR
