BEGIN:VCALENDAR
VERSION:2.0
PRODID:-//ChamberMaster//Event Calendar 2.0//EN
METHOD:PUBLISH
X-PUBLISHED-TTL:P3D
REFRESH-INTERVAL:P3D
CALSCALE:GREGORIAN
BEGIN:VEVENT
DTSTART:20200505T070000Z
DTEND:20200505T080000Z
X-MICROSOFT-CDO-ALLDAYEVENT:FALSE
SUMMARY:Mental Health and Covid-19 Pandemic
DESCRIPTION:During the outbreak covid-19 pandemic\, you may feel anxious and other strong emotions even if you are at little or no risk of contracting the disease. Taking care of your emotional health during these unprecedented times will help you stay in the right mindset and know when and how to seek help.\n\n \n\nJoin AMCHAM for this videoconference where healthcare experts from Bangkok Hospital will provide an interactive discussion on mental health and wellness with topics including:\n\n \n\n\n	Coping with your feelings and mental health during difficult times\n	Keeping up with healthy routines\n	Setting limitations on news and social media to prevent information overload\n	Q&A Session\n\n\nAbout the Speakers:\n\n\n	Dr. Apisamai Srirangson is the Director of the Bangkok Mental Health Rehabilitation and Recovery Center (BMRC) at Bangkok Hospital. She has been a national news anchor person for Channel 11 and 7 and is a well-known public figure often appearing on news programs offering expert opinions on mental health issues.  She has presented in multiple global and national conferences including being invited to present to the American Psychiatric Association.\n	Dr. Anothai Soonsawat is a geriatric psychiatrist at the Bangkok Mental health Rehabilitation and Recovery Center (BMRC). Trained in behavioral health in elderly population\, he has a unique years of experience in cognitive neuroscience\, mind-body connection\, and Alzheimer's prevention program. In collaboration with BMRC\, he has run multiple workshops in Alzheimer's preventive measure\, age-happiness promotion\, stress management for organizations\, etc.
X-ALT-DESC;FMTTYPE=text/html:<div style="box-sizing: border-box\; font-family: &quot\;Segoe UI&quot\;\, system-ui\, &quot\;Apple Color Emoji&quot\;\, &quot\;Segoe UI Emoji&quot\;\, sans-serif\; font-size: 14px\;">\n<div>During the outbreak covid-19 pandemic\, you may feel anxious and other strong emotions even if you are at little or no risk of contracting the disease. Taking care of your emotional health during these unprecedented times will help you stay in the right mindset and know when and how to seek help.</div>\n\n<div>&nbsp\;</div>\n\n<div>Join AMCHAM for this videoconference&nbsp\;where healthcare experts from Bangkok Hospital will provide an interactive discussion on mental health and wellness with topics including:</div>\n\n<div>&nbsp\;</div>\n\n<ul>\n	<li>Coping with your feelings and mental health during difficult times</li>\n	<li>Keeping up with healthy routines</li>\n	<li>Setting limitations on news and social media to prevent information overload</li>\n	<li>Q&amp\;A Session</li>\n</ul>\n\n<div><strong>About the Speakers:</strong></div>\n\n<ul>\n	<li><span style="font-size:14px\;"><span style="font-family:verdana\;"><span style="text-align: left\; color: rgb(51\, 51\, 51)\; text-transform: none\; text-indent: 0px\; letter-spacing: normal\; font-style: normal\; font-variant: normal\; font-weight: 400\; text-decoration: none\; word-spacing: 0px\; display: inline !important\; white-space: normal\; orphans: 2\; float: none\; -webkit-text-stroke-width: 0px\; background-color: rgb(255\, 255\, 255)\;">Dr. Apisamai Srirangson</span> <span style="line-height: 115%\;">is the Director of the Bangkok Mental Health Rehabilitation and Recovery Center (BMRC) at Bangkok Hospital. She</span> </span>has been a national news anchor person for Channel 11 and 7 and is a well-known public figure often appearing on news programs offering expert opinions on mental health issues.&nbsp\; She has presented in multiple global and national conferences including being invited to present to the American Psychiatric Association.</span></li>\n	<li><span style="font-size:14px\;"><span style="font-family:verdana\;"><a href="https://www.linkedin.com/in/anothai-soonsawat-7476a394?originalSubdomain=th" style="color: rgb(7\, 130\, 193)\; font-family: &amp\;quot\;Segoe UI&amp\;quot\;\,system-ui\,&amp\;quot\;Apple Color Emoji&amp\;quot\;\,&amp\;quot\;Segoe UI Emoji&amp\;quot\;\,sans-serif\; font-size: 14px\; font-style: normal\; font-variant: normal\; font-weight: 400\; letter-spacing: normal\; orphans: 2\; text-align: left\; text-decoration: underline\; text-indent: 0px\; text-transform: none\; -webkit-text-stroke-width: 0px\; white-space: normal\; word-spacing: 0px\;">Dr. Anothai Soonsawat</a><span style="text-align: left\; color: rgb(51\, 51\, 51)\; text-transform: none\; text-indent: 0px\; letter-spacing: normal\; font-style: normal\; font-variant: normal\; font-weight: 400\; text-decoration: none\; word-spacing: 0px\; display: inline !important\; white-space: normal\; orphans: 2\; float: none\; -webkit-text-stroke-width: 0px\; background-color: rgb(255\, 255\, 255)\;"> is </span><span style="line-height: 107%\;">a geriatric psychiatrist at the Bangkok Mental health Rehabilitation and Recovery Center (BMRC). Trained in behavioral health in elderly population\, he has a unique years of experience in cognitive neuroscience\, mind-body connection\, and Alzheimer&rsquo\;s prevention program. In collaboration with BMRC\, he has run multiple workshops in Alzheimer&rsquo\;s preventive measure\, age-happiness promotion\, stress management for organizations\, etc.</span></span></span></li>\n</ul>\n</div>\n
LOCATION:Video Conference
UID:e.3314.1603
SEQUENCE:3
DTSTAMP:20260423T001037Z
URL:https://connect.amchamthailand.com/events/details/mental-health-and-covid-19-pandemic-1603
END:VEVENT

END:VCALENDAR
