BEGIN:VCALENDAR
VERSION:2.0
PRODID:-//ChamberMaster//Event Calendar 2.0//EN
METHOD:PUBLISH
X-PUBLISHED-TTL:P3D
REFRESH-INTERVAL:P3D
CALSCALE:GREGORIAN
BEGIN:VEVENT
DTSTART:20230126T050000Z
DTEND:20230126T070000Z
X-MICROSOFT-CDO-ALLDAYEVENT:FALSE
SUMMARY:Member Luncheon with Narit Therdsteerasukdi\, Secretary-General\, Thailand Board of Investment (BOI)
DESCRIPTION:Please join AMCHAM in welcoming the recently appointed Secretary-General of the Board of Investment (BOI)\, Narit Therdsteerasukdi\, to address members at our January luncheon. \n\n\n\nThe Board of Investment (BOI) plays a crucial role in promoting and facilitating foreign investment in Thailand and works closely with AMCHAM to communicate strategy on foreign investment promotion and to provide services to facilitate companies with significant and valuable investment in Thailand.\n\n\n\nSecretary-General Narit will share updates on the BOI?s plans and priorities with regards to the Five-Year Investment Strategy for 2023-2027\, covering investment opportunities\, incentives\, and privileges. In addition\, the Secretary-General will present developments on the government?s policy on increasing the ease of doing business\, the progress of the Long-Term Resident (LTR) Visa implementation\, and potential collaboration with the business community to enhance Thailand?s competitiveness as a regional investment hub. \n\n\n\nAbout the Speaker:\n\n\n\nNarit Therdsteerasukdi was appointed Secretary-General of the BOI in October 2022. He started his career with the BOI in 1995 and worked in various divisions under the BOI such as the Investment Service Center\, International Affairs Division\, and Planning and Development Division. He was later promoted to management positions including Director of Economic and Investment Strategy Division and Director of Center for Development of New Investment Promotion Strategy and Policy. In addition to his position at the BOI\, he was appointed to be Deputy Director of One Tambon\, One Product (OTOP) Program Coordination Office under the Prime Minister?s Office as well as Head of the Secretariat of Economic Advisory Committee to the Prime Minister in the early 2000s.\n\n\n\nNarit also takes on additional roles relating to educational and economic development. For example\, he is currently the Vice President of Chulalongkorn University?s Economics Association\, a member of the Public Sector Development Sub-Committee\, and a member of Special Task Force for Building New Priority Industries (PMO Team) under the supervision of Deputy Prime Minister Supattanapong Punmeecheow.\n\n\n\nNarit earned his Bachelor of Economics (Honors) from Chulalongkorn University\, Bachelor of Laws from Ramkhamhaeng University\, and Master of Arts in Economics from Boston University\, USA.
X-ALT-DESC;FMTTYPE=text/html:<p>Please join AMCHAM in welcoming the recently appointed Secretary-General of the Board of Investment (BOI)\,&nbsp\;Narit Therdsteerasukdi\, to address members at our January luncheon.&nbsp\;<br />\n<br />\nThe&nbsp\;Board of Investment (BOI) plays a crucial role in promoting and facilitating foreign investment in Thailand and works closely with AMCHAM to communicate strategy on foreign investment promotion and to provide services to facilitate companies with significant and valuable investment in Thailand.<br />\n<br />\nSecretary-General Narit will share updates on the BOI?s plans and priorities with regards to the Five-Year Investment Strategy for 2023-2027\, covering investment opportunities\, incentives\, and privileges. In addition\, the Secretary-General will present developments on the government?s policy on increasing the ease of doing business\, the progress of the Long-Term Resident (LTR) Visa implementation\, and potential collaboration with the business community to enhance Thailand?s competitiveness as a regional investment hub.&nbsp\;<br />\n<br />\n<strong>About the Speaker:</strong><br />\n<br />\n<strong>Narit Therdsteerasukdi</strong> was appointed Secretary-General of the BOI in October 2022. He started his career with the BOI in 1995 and worked in various divisions under the BOI such as the Investment Service Center\, International Affairs Division\, and Planning and Development Division. He was later promoted to management positions including Director of Economic and Investment Strategy Division and Director of Center for Development of New Investment Promotion Strategy and Policy. In addition to his position at the BOI\, he was appointed to be Deputy Director of One Tambon\, One Product (OTOP) Program Coordination Office under the Prime Minister?s Office as well as Head of the Secretariat of Economic Advisory Committee to the Prime Minister in the early 2000s.<br />\n<br />\nNarit also takes on additional roles relating to educational and economic development. For example\, he is currently the Vice President of Chulalongkorn University?s Economics Association\, a member of the Public Sector Development Sub-Committee\, and a member of Special Task Force for Building New Priority Industries (PMO Team) under the supervision of Deputy Prime Minister Supattanapong Punmeecheow.<br />\n<br />\nNarit earned his Bachelor of Economics (Honors) from Chulalongkorn University\, Bachelor of Laws from Ramkhamhaeng University\, and Master of Arts in Economics from Boston University\, USA.</p>\n
LOCATION:Anantara Siam Bangkok Hotel\, Ballroom BTS Rachadamri
UID:e.3314.2360
SEQUENCE:3
DTSTAMP:20260420T162441Z
URL:https://connect.amchamthailand.com/events/details/member-luncheon-with-narit-therdsteerasukdi-secretary-general-thailand-board-of-investment-boi-2360
END:VEVENT

END:VCALENDAR
