BEGIN:VCALENDAR
VERSION:2.0
PRODID:-//ChamberMaster//Event Calendar 2.0//EN
METHOD:PUBLISH
X-PUBLISHED-TTL:P3D
REFRESH-INTERVAL:P3D
CALSCALE:GREGORIAN
BEGIN:VEVENT
DTSTART:20230511T010000Z
DTEND:20230511T030000Z
X-MICROSOFT-CDO-ALLDAYEVENT:FALSE
SUMMARY:Meet the Embassy @ the U.S. Ambassador's Residence
DESCRIPTION:AMCHAM is delighted to invite members to our Meet the Embassy coffee morning at the U.S. Ambassador's Residence on Witthayu Road. At this event\, members will have the opportunity to meet with section heads of the Embassy including Consular\, Economic Section\, Foreign Agriculture Service\, Foreign Commercial Service\, Public Affairs\, United States Customs and Border Protection (under Homeland Security)\, United States Patent and Trademark Office\, United States Trade and Development Agency\, and learn about their activities\, followed by open networking.\n\n\n\nPlease register early\, as spaces are limited.
X-ALT-DESC;FMTTYPE=text/html:AMCHAM is delighted to invite members to our Meet the Embassy coffee morning at the U.S. Ambassador&#39\;s Residence on Witthayu Road. At this event\, members will have the opportunity to meet with section heads of the Embassy including&nbsp\;<span style="color: black\;">Consular\,&nbsp\;</span><span style="color: black\;">Economic Section\,&nbsp\;Foreign Agriculture Service\,&nbsp\;Foreign Commercial Service\,&nbsp\;Public Affairs\,&nbsp\;United States Customs and Border Protection (under Homeland Security)\,&nbsp\;United States Patent and Trademark Office\,&nbsp\;United States Trade and Development Agency\,</span><span style="color:#FF0000\;">&nbsp\;</span>and learn about their activities\, followed by open networking.<br />\n<br />\nPlease register early\, as spaces are limited.&nbsp\;
LOCATION:The U.S. Ambassador's Residence BTS: Ploenchit No Parking onsite
UID:e.3314.2536
SEQUENCE:3
DTSTAMP:20260420T053902Z
URL:https://connect.amchamthailand.com/events/details/meet-the-embassy-the-u-s-ambassador-s-residence-2536
END:VEVENT

END:VCALENDAR
