BEGIN:VCALENDAR
VERSION:2.0
PRODID:-//ChamberMaster//Event Calendar 2.0//EN
METHOD:PUBLISH
X-PUBLISHED-TTL:P3D
REFRESH-INTERVAL:P3D
CALSCALE:GREGORIAN
BEGIN:VEVENT
DTSTART:20181114T090000Z
DTEND:20181114T110000Z
X-MICROSOFT-CDO-ALLDAYEVENT:FALSE
SUMMARY:Meet the Embassy
DESCRIPTION:AMCHAM and the U.S. Embassy are pleased to invite members to a "Meet the Embassy" coffee briefing to hear about the various departments and sections supported at the Embassy and the services they perform. Members of the U.S. Embassy will be on-hand for you to meet and ask questions about the services they oversee at the U.S. Embassy Bangkok. \n\nThe following departments have been invited:\n\n\n	AFRIMS - Armed Forces Research Institute of Medial Science\n	Consular\n	Drug Enforcement Aadministration\n	Economic Section\n	Foreign Agricultural Service\n	Commercial Service\n	International Narcotics and Law Enforcement Affairs\n	JUSMAG\n	Management\n	OPIC - Overseas Private Investment Corporation\n	Public Affairs Office\n	Peace Corps\n	Political Section\n	Regional Security Ofiice\n	USAID\n	USPTO - U.S. Patent & Trademark Office\n	USTDA - U.S. Trade & Development Agency\n\n\nAgenda:  \n\nMeet the Embassy\n\nRegistration 4:00 pm\,\n\nProgram      4:30 pm \n\nEnd             6:00 pm\n\nJoin the Social Networking night following from 6 pm to 9 pm.  Please book separately.
X-ALT-DESC;FMTTYPE=text/html:<p style="color: rgb(51\, 51\, 51)\; font-family: sans-serif\, Arial\, Verdana\, &quot\;Trebuchet MS&quot\;\; font-size: 13px\; background-color: rgb(255\, 255\, 255)\;">AMCHAM and the U.S. Embassy are pleased to invite members to a &quot\;Meet the Embassy&quot\; coffee briefing to hear about the various departments and sections supported at the Embassy and the services they perform. Members of the U.S. Embassy will be on-hand for you to meet and ask questions about the services they oversee at the U.S. Embassy Bangkok.&nbsp\;</p>\n\n<p style="color: rgb(51\, 51\, 51)\; font-family: sans-serif\, Arial\, Verdana\, &quot\;Trebuchet MS&quot\;\; font-size: 13px\; background-color: rgb(255\, 255\, 255)\;">The following departments have been invited:</p>\n\n<ol style="padding: 0px 40px\; color: rgb(51\, 51\, 51)\; font-family: sans-serif\, Arial\, Verdana\, &quot\;Trebuchet MS&quot\;\; font-size: 13px\; background-color: rgb(255\, 255\, 255)\;">\n	<li>AFRIMS&nbsp\;- Armed Forces Research Institute of Medial Science</li>\n	<li>Consular</li>\n	<li>Drug Enforcement Aadministration</li>\n	<li>Economic Section</li>\n	<li>Foreign Agricultural Service</li>\n	<li>Commercial Service</li>\n	<li>International Narcotics and Law Enforcement Affairs</li>\n	<li>JUSMAG</li>\n	<li>Management</li>\n	<li>OPIC&nbsp\;- Overseas Private Investment Corporation</li>\n	<li>Public Affairs Office</li>\n	<li>Peace Corps</li>\n	<li>Political Section</li>\n	<li>Regional Security Ofiice</li>\n	<li>USAID</li>\n	<li>USPTO&nbsp\;- U.S. Patent &amp\; Trademark Office</li>\n	<li>USTDA&nbsp\;- U.S. Trade &amp\; Development Agency</li>\n</ol>\n\n<p style="color: rgb(51\, 51\, 51)\; font-family: sans-serif\, Arial\, Verdana\, &quot\;Trebuchet MS&quot\;\; font-size: 13px\; background-color: rgb(255\, 255\, 255)\;"><strong>Agenda:</strong>&nbsp\;&nbsp\;<br />\n<em style="color: rgb(51\, 51\, 51)\; font-family: sans-serif\, Arial\, Verdana\, &quot\;Trebuchet MS&quot\;\; font-size: 13px\; background-color: rgb(255\, 255\, 255)\;">Meet the Embassy</em><br style="color: rgb(51\, 51\, 51)\; font-family: sans-serif\, Arial\, Verdana\, &quot\;Trebuchet MS&quot\;\; font-size: 13px\; background-color: rgb(255\, 255\, 255)\;" />\n<span style="color: rgb(51\, 51\, 51)\; font-family: sans-serif\, Arial\, Verdana\, &quot\;Trebuchet MS&quot\;\; font-size: 13px\; background-color: rgb(255\, 255\, 255)\;">Registration 4:00 pm\,</span><br style="color: rgb(51\, 51\, 51)\; font-family: sans-serif\, Arial\, Verdana\, &quot\;Trebuchet MS&quot\;\; font-size: 13px\; background-color: rgb(255\, 255\, 255)\;" />\n<span style="color: rgb(51\, 51\, 51)\; font-family: sans-serif\, Arial\, Verdana\, &quot\;Trebuchet MS&quot\;\; font-size: 13px\; background-color: rgb(255\, 255\, 255)\;">Program &nbsp\; &nbsp\; &nbsp\;4:30 pm&nbsp\;</span><br style="color: rgb(51\, 51\, 51)\; font-family: sans-serif\, Arial\, Verdana\, &quot\;Trebuchet MS&quot\;\; font-size: 13px\; background-color: rgb(255\, 255\, 255)\;" />\n<span style="color: rgb(51\, 51\, 51)\; font-family: sans-serif\, Arial\, Verdana\, &quot\;Trebuchet MS&quot\;\; font-size: 13px\; background-color: rgb(255\, 255\, 255)\;">End &nbsp\; &nbsp\; &nbsp\; &nbsp\; &nbsp\; &nbsp\; 6:00 pm</span></p>\n\n<p style="color: rgb(51\, 51\, 51)\; font-family: sans-serif\, Arial\, Verdana\, &quot\;Trebuchet MS&quot\;\; font-size: 13px\; background-color: rgb(255\, 255\, 255)\;">Join the Social Networking night following from 6 pm to 9 pm. &nbsp\;Please book separately.</p>\n
LOCATION:Town Hall\, Ananda Development FYI Center Building\, 11th Floor
UID:e.3314.78
SEQUENCE:3
DTSTAMP:20260424T043742Z
URL:https://connect.amchamthailand.com/events/details/meet-the-embassy-78
END:VEVENT

END:VCALENDAR
