BEGIN:VCALENDAR
VERSION:2.0
PRODID:-//ChamberMaster//Event Calendar 2.0//EN
METHOD:PUBLISH
X-PUBLISHED-TTL:P3D
REFRESH-INTERVAL:P3D
CALSCALE:GREGORIAN
BEGIN:VEVENT
DTSTART:20181010T110000Z
DTEND:20181010T133000Z
X-MICROSOFT-CDO-ALLDAYEVENT:FALSE
SUMMARY:Meet the Board Candidates Networking & SME Showcase
DESCRIPTION:ONLINE BOOKINGS CLOSED DUE TO WEB MIGRATION\n\nPLEASE EMAIL sheree@amchamthailand.com before noon 10 October or\n\nWALK-INS WELCOME!\n\nAMCHAM Thailand invites you to meet the candidates running for 2018/2019 Board of Governors\, and enjoy an evening of networking and socializing.\n\nYou're cordially invited to the banks of the Chao Praya river for our October Social Networking night\, at the Ramada Plaza Menam Riverside.\n\n\n\nThis will also be our very first AMCHAM SME Showcase where visitors will have the opportunity to see the latest offerings from our SMEs and entrepreneurs.  \n\nEntrance fee includes a selection of mouth-watering foods\, and free-flow wine and beer.\n\nProceeds from our networking events go to support the American Chamber of Commerce in Thailand Foundation Scholarship Program.\n\n\nAMCHAM's 1st annual SME Showcase\n\nAmcham Thailand's SME Committee is inviting you to meet a whole host of influential & local professionals\, and expand your networking\, at our very first SME Showcase.\n\nCome and meet our various SME members\, see what they have to offer\, and of course have some fun! \n\nParticipating in this event goes beyond business. It's about uniting a community that is shaping the future of American Business in Thailand.\n\n\n	Thoughtfully curated exhibitors from a wide selection of our SME community\n	Industries include: Food & Beverage\, Legal\, Marketing\, Technology\, Coaching and Business Solutions.\n	200+ guests expected to be in attendance\n	Products & Services which may be perfect for your business\n	Exciting opportunity for exhibitors and guest\n\n\nAbout our Sponsors\n\nRAMADA PLAZA BANGKOK MENAN RIVERSIDE\n\nRamada Plaza Bangkok Menam Riverside is a deluxe hotel idyllically set on 280 meters of river frontage on the eastern banks of the majestic Chao Phraya River. The hotel is independently owned and is operated under a franchise license agreement with Ramada Worldwide. Since its inception in 1986\, Ramada Plaza Bangkok Menam Riverside has grown gradually\, positioning itself in par with other luxury hotels in Bangkok.\n\nLocated in the heart of Bangkok\, Ramada Plaza Bangkok Menam Riverside features 525 guest rooms and suites ranging from 34sqm to 170sqm. The hotel offers a selection of 8 restaurants and bars\, which includes a prominent all-day dining outlet which ideally sits on the stunning river\, a novel bakery corner\, 22 function rooms for 10 up to 1000 guests\; and more than 650 parking lots.\n\n\n\nOther facilities include a large outdoor swimming pool\, the Massira Wellness & Spa and the Ocean Kids Club. The hotel's convenient location is an additional feature for those who wish to explore this fascinating city. Major cultural attractions are within easy reach and access\, as are Bangkok's central business district\, bustling shopping malls and nightlife entertainment. The hotel is also just a 5-minute brisk walk to Asia's largest night bazaar\, Asiatique The Riverfront.\n\n\n\nWEWORK\n\n\n\nWeWork is a global network of workspaces where companies and people grow together. We transform buildings into dynamic environments for creativity\, focus\, and connection. More than just the best place to work\, though\, this is a movement toward humanizing work. We believe that CEOs can help each other\, offices can use the comforts of home\, and we can all look forward to Monday if we find real meaning in what we do.
X-ALT-DESC;FMTTYPE=text/html:<p style="padding: 0px 10px\; color: rgb(0\, 0\, 0)\; line-height: 1.5\; font-family: verdana\, arial\, sans-serif\, helvetica\; font-size: 0.9em\; margin-top: 10px\; margin-bottom: 10px\;"><strong><span style="color: rgb(128\, 0\, 0)\;">ONLINE BOOKINGS CLOSED DUE TO WEB MIGRATION</span></strong></p>\n\n<p style="padding: 0px 10px\; color: rgb(0\, 0\, 0)\; line-height: 1.5\; font-family: verdana\, arial\, sans-serif\, helvetica\; font-size: 0.9em\; margin-top: 10px\; margin-bottom: 10px\;"><strong><span style="color: rgb(128\, 0\, 0)\;">PLEASE EMAIL&nbsp\;<a href="mailto:sheree@amchamthailand.com" style="color: rgb(128\, 0\, 0)\; text-decoration-line: none\;">sheree@amchamthailand.com</a>&nbsp\;before noon 10 October or</span></strong></p>\n\n<p style="padding: 0px 10px\; color: rgb(0\, 0\, 0)\; line-height: 1.5\; font-family: verdana\, arial\, sans-serif\, helvetica\; font-size: 0.9em\; margin-top: 10px\; margin-bottom: 10px\;"><strong><span style="color: rgb(128\, 0\, 0)\;">WALK-INS&nbsp\;WELCOME!</span></strong></p>\n\n<p>AMCHAM&nbsp\;Thailand invites you to meet the candidates running for 2018/2019 Board of Governors\, and enjoy an evening of networking and socializing.</p>\n\n<p>You&#39\;re cordially invited to the banks of the Chao&nbsp\;Praya&nbsp\;river for our October Social Networking night\, at the Ramada Plaza Menam&nbsp\;Riverside.<br />\n<br />\nThis will also be our very first AMCHAM&nbsp\;SME&nbsp\;Showcase where visitors will have the opportunity to see the latest offerings from our&nbsp\;SMEs and entrepreneurs.&nbsp\;&nbsp\;</p>\n\n<p>Entrance fee includes a selection of mouth-watering foods\, and free-flow wine and beer.</p>\n\n<p>Proceeds from our networking events go to support the American Chamber of Commerce in Thailand Foundation Scholarship Program.</p>\n\n<hr />\n<p>AMCHAM&#39\;s 1st annual SME Showcase</p>\n\n<p>Amcham Thailand&#39\;s SME Committee is inviting you to meet a whole host of&nbsp\;influential &amp\; local professionals\,&nbsp\;and&nbsp\;expand&nbsp\;your networking\, at our very first SME Showcase.<br />\nCome and meet our&nbsp\;various SME members\, see what they&nbsp\;have to&nbsp\;offer\,&nbsp\;and of course have some&nbsp\;fun!&nbsp\;<br />\nParticipating in this event goes beyond business. It&#39\;s about&nbsp\;uniting a community that is shaping the future of American Business in Thailand.</p>\n\n<ul>\n	<li>Thoughtfully curated exhibitors from a wide selection of our SME community</li>\n	<li>Industries include: Food &amp\; Beverage\, Legal\, Marketing\, Technology\, Coaching and Business Solutions.</li>\n	<li>200+ guests expected to be in attendance</li>\n	<li>Products &amp\; Services which may be perfect for your business</li>\n	<li>Exciting opportunity for exhibitors and guest</li>\n</ul>\n\n<p>About our Sponsors</p>\n\n<p>RAMADA PLAZA BANGKOK MENAN RIVERSIDE</p>\n\n<p>Ramada Plaza Bangkok Menam Riverside is a deluxe hotel idyllically set on 280 meters of river frontage on the eastern banks of the majestic Chao Phraya River. The hotel is independently owned and is operated under a franchise license agreement with Ramada Worldwide. Since its inception in 1986\, Ramada Plaza Bangkok Menam Riverside has grown gradually\, positioning itself in par with other luxury hotels in Bangkok.</p>\n\n<p>Located in the heart of Bangkok\, Ramada Plaza Bangkok Menam Riverside features 525 guest rooms and suites ranging from 34sqm to 170sqm. The hotel offers a selection of 8 restaurants and bars\, which includes a prominent all-day dining outlet which ideally sits on the stunning river\, a novel bakery corner\, 22 function rooms for 10 up to 1000 guests\; and more than 650 parking lots.<br />\n<br />\nOther facilities include a large outdoor swimming pool\, the Massira Wellness &amp\; Spa and the Ocean Kids Club. The hotel&rsquo\;s convenient location is an additional feature for those who wish to explore this fascinating city. Major cultural attractions are within easy reach and access\, as are Bangkok&rsquo\;s central business district\, bustling shopping malls and nightlife entertainment. The hotel is also just a 5-minute brisk walk to Asia&rsquo\;s largest night bazaar\, Asiatique The Riverfront.<br />\n<br />\nWEWORK<br />\n<br />\nWeWork is a global network of workspaces where companies and people grow together. We transform buildings into dynamic environments for creativity\, focus\, and connection. More than just the best place to work\, though\, this is a movement toward humanizing work. We believe that CEOs can help each other\, offices can use the comforts of home\, and we can all look forward to Monday if we find real meaning in what we do.</p>\n<br />\n&nbsp\;
LOCATION:Ramada Plaza Menam Riverside Hotel 2074 Charoenkrung Road BTS Saphan Taksin (shuttle boats depart the hotel every 30 minutes on the hour and half hour and will depart from Saphan Thaksin approximately 10 minutes after)
UID:e.3314.33
SEQUENCE:3
DTSTAMP:20260424T073519Z
URL:https://connect.amchamthailand.com/events/details/meet-the-board-candidates-networking-sme-showcase-33
END:VEVENT

END:VCALENDAR
