BEGIN:VCALENDAR
VERSION:2.0
PRODID:-//ChamberMaster//Event Calendar 2.0//EN
METHOD:PUBLISH
X-PUBLISHED-TTL:P3D
REFRESH-INTERVAL:P3D
CALSCALE:GREGORIAN
BEGIN:VEVENT
DTSTART:20200612T070000Z
DTEND:20200612T080000Z
X-MICROSOFT-CDO-ALLDAYEVENT:FALSE
SUMMARY:Legal Committee Video Conference: Thailand’s Personal Data Protection Act: Delay of the Law & Covid Implications
DESCRIPTION:The full enactment of the Personal Data Protection Act (PDPA) has been postponed until May 31\, 2021.  Can companies forgo compliance until then\, or are there any issues that should still be reviewed and considered? Does the Covid pandemic bring unique implications for personal data protection?  What about all those personal data committees that were supposed to be established?  What are some corporate best practices for personal data protection from other jurisdictions?\n\n \n\nPlease join the Legal Committee as it welcomes our speakers:\n\n \n\n\n\n	Dr. Prapanpong Khumon\, Vice Dean (Academic Affairs) of School of Law\, University of the Thai Chamber of Commerce. He also acts as an Advisor to Secretary-General of the Personal Data Protection Commission\, Thailand and a Chairperson of Academy of Public Enterprise Policy\, Business and Regulation (APaR). \n	Kevin O'Neal\, Managing Counsel\, Asia South Business Unit\, Chevron. His specialties include Oil and Gas Law\, Commercial\, Compliance and Investigations and Litigation Management.
X-ALT-DESC;FMTTYPE=text/html:<div>The full enactment of the Personal Data Protection Act (PDPA) has been postponed until&nbsp\;May 31\, 2021.&nbsp\; Can companies forgo compliance until then\, or are there any issues that should still be reviewed and considered?&nbsp\;Does the Covid&nbsp\;pandemic bring unique implications for personal data protection?&nbsp\; What about all those personal data committees that were supposed to be established?&nbsp\; What are some corporate best practices for personal data protection from other jurisdictions?</div>\n\n<div>&nbsp\;</div>\n\n<div>Please join the Legal Committee&nbsp\;as it welcomes our speakers:</div>\n\n<div>&nbsp\;</div>\n\n<div>\n<ul>\n	<li><a href="https://www.linkedin.com/in/prapanpong-khumon-6b413751/?originalSubdomain=th" rel="noreferrer noopener" target="_blank">Dr. Prapanpong Khumon</a>\,&#8239\;Vice Dean (Academic Affairs) of School of Law\, University of the Thai Chamber of Commerce.&nbsp\;He also acts as&nbsp\;an Advisor to Secretary-General of the Personal Data Protection Commission\, Thailand&nbsp\;and&nbsp\;a Chairperson of Academy of Public Enterprise Policy\, Business and Regulation (APaR).&nbsp\;</li>\n	<li paraeid="{e23a6df5-76b9-4ddf-97f7-ec403cb64d7a}{230}" paraid="1092772259">Kevin O'Neal\, Managing Counsel\, Asia South Business Unit\, Chevron. His specialties include&nbsp\;Oil and Gas Law\,&nbsp\;Commercial\,&nbsp\;Compliance and Investigations&nbsp\;and&nbsp\;Litigation Management.</li>\n</ul>\n</div>\n
LOCATION:Video Conference
UID:e.3314.1620
SEQUENCE:3
DTSTAMP:20260422T202352Z
URL:https://connect.amchamthailand.com/events/details/legal-committee-video-conference-thailand-s-personal-data-protection-act-delay-of-the-law-covid-implications-1620
END:VEVENT

END:VCALENDAR
