BEGIN:VCALENDAR
VERSION:2.0
PRODID:-//ChamberMaster//Event Calendar 2.0//EN
METHOD:PUBLISH
X-PUBLISHED-TTL:P3D
REFRESH-INTERVAL:P3D
CALSCALE:GREGORIAN
BEGIN:VEVENT
DTSTART:20200626T070000Z
DTEND:20200626T080000Z
X-MICROSOFT-CDO-ALLDAYEVENT:FALSE
SUMMARY:Legal Committee Video Conference: Emerging Fraud Trends During the New Normal
DESCRIPTION:Fraud is often most virulent during downturns and crises   both of which we are experiencing with the covid-19 pandemic. As we have witnessed in prior crises\, instances of insider fraud are on the rise due to the effects of covid-19 on the economy. With the rising risk of fraud\, it is important for management to be aware of common fraud schemes that may be impacting their organizations and steps that can be taken to mitigate risk. \n\n\n\nOur Speaker:\n\nShin Honma is the Risk Consulting and Forensic Services leader for PwC Thailand\, and is based in Bangkok\, Thailand. Shin possesses over 20 years of experience assisting global companies with issues related to fraud\, bribery and corruption\, employee misconduct\, crisis management\, and risk management.
X-ALT-DESC;FMTTYPE=text/html:Fraud is often most virulent during downturns and crises &ndash\; both of which we are experiencing with the covid-19 pandemic. As we have witnessed in prior crises\, instances of insider fraud are on the rise due to the effects of covid-19 on the economy. With the rising risk of fraud\, it is important for management to be aware of common fraud schemes that may be impacting their organizations and steps that can be taken to mitigate risk.&nbsp\;<br />\n<br />\n<strong>Our Speaker:</strong><br />\n<a href="https://www.linkedin.com/in/shin-honma-041865/?originalSubdomain=jp">Shin Honma</a> is the Risk Consulting and Forensic Services leader for PwC Thailand\, and is based in Bangkok\, Thailand. Shin possesses over 20 years of experience assisting global companies with issues related to fraud\, bribery and corruption\, employee misconduct\, crisis management\, and risk management.&nbsp\;
LOCATION:Video Conference
UID:e.3314.1628
SEQUENCE:3
DTSTAMP:20260422T222141Z
URL:https://connect.amchamthailand.com/events/details/legal-committee-video-conference-emerging-fraud-trends-during-the-new-normal-1628
END:VEVENT

END:VCALENDAR
