BEGIN:VCALENDAR
VERSION:2.0
PRODID:-//ChamberMaster//Event Calendar 2.0//EN
METHOD:PUBLISH
X-PUBLISHED-TTL:P3D
REFRESH-INTERVAL:P3D
CALSCALE:GREGORIAN
BEGIN:VEVENT
DTSTART:20221026T030000Z
DTEND:20221026T040000Z
X-MICROSOFT-CDO-ALLDAYEVENT:FALSE
SUMMARY:Legal Committee: The Importance of Dispute Resolution Clauses in Negotiated Transactions
DESCRIPTION:When a dispute arises in a negotiated transaction\, the two primary methods of resolving that dispute are litigation and arbitration. Most commercial contracts can be drafted to provide for a customized dispute resolution mechanism. The dispute resolution clause can cover such matters as the language of the proceedings and the rules of the proceedings. The dispute resolution method selected can affect the enforceability of the judgment or award (in and outside of Thailand)\, whether the proceedings are private or public\, if an appeal is available following the initial ruling or judgment and other matters that are often\, in practice\, dispositive. \n\n \n\nWe will have a panel of experienced litigation and arbitration lawyers from the region discuss the pros and cons of various dispute resolution mechanisms and clauses. Although dispute resolution clauses are often the last clause the parties negotiate and draft for a contract\, they often provide a significant advantage to one party or another and can be dispositive. The format will be a moderated panel discussion and we will take questions from the audience. Please join us for this event.\n\n\n\nAbout the Speakers:\n\nSteven Burkill\, Partner\, Watson Farley & Williams\, Head of the firm's Bangkok office\, and Head of the WFW Dispute Resolution Group and a Deputy Senior Partner of the firm. Steven specializes in complex international disputes\, in particular\, London and Asia-based arbitrations. Steven has sat as an arbitrator (sole and co-arbitrator and Chair) in the ICC\, SIAC\, TAI and ad hoc arbitrations. This includes English Law and Thai Law. Steven's qualification: Law Society of England and Wales\, Cambridge University. \n\n\n\nAntony Crockett\, Partner\, Herbert Smith (Hong Kong). Antony has more than 15 years experience in international arbitration and cross-border dispute resolution and has practised in Asia for a decade. Antony is tri-qualified\, in Australia (Victoria)\, England & Wales and Hong Kong SAR. University of Melbourne\, LLB (Hons) Law\, London School of Economics and Political Science\, LLM (Dist.)\, International Law. \n\n\n\nVanina Sucharitkul\, FCIArb\, International Arbitrator\, L'Universit  Paris Descartes (Paris V) Attorney-at-Law (California). Vanina specializes in international commercial and investment arbitration and has over 15 years' experience advising local and international clients on diverse range of cross-border disputes\, as well as acting as counsel and advocate\, in leading international firm offices in San Francisco\, Bangkok\, Paris and London. Qualified in California\, Vanina then obtained her Doctorat en Droit (D.Phil) at the Universit  de Paris Panth on-Assas on investment arbitration. Vanina has sat as arbitrator under the auspices of a number of institutions such as the TAI\, SIAC\, SCIA\, AIAC\, and ICC. Vanina served as Thailand's member to the ICC for 3 terms\, Director of Arbitral Women for 2 terms and is currently Chair of the CIArb Thailand and the President Founder of the YTHAC. \n\n\n\nOur Moderator:\n\nDouglas Mancill\, Legal Analytics. Qualification: California. U.C. Berkeley Law School. Dual Thai and U.S. national. Jury and bench trials in the U.S. JAMS\, ICC\, TAI and ICSID arbitration work.
X-ALT-DESC;FMTTYPE=text/html:<p>When a dispute arises in a negotiated transaction\, the two primary methods of resolving that dispute are litigation and arbitration. Most commercial contracts can be drafted to provide for a customized dispute resolution mechanism. The dispute resolution clause can cover such matters as the language of the proceedings and the rules of the proceedings. The dispute resolution method selected can affect the enforceability of the judgment or award (in and outside of Thailand)\, whether the proceedings are private or public\, if an appeal is available following the initial ruling or judgment and other matters that are often\, in practice\, dispositive.&nbsp\;<br />\n&nbsp\;<br />\nWe will have a panel of experienced litigation and arbitration lawyers from the region discuss the pros and cons of various dispute resolution mechanisms and clauses. Although dispute resolution clauses are often the last clause the parties negotiate and draft for a contract\, they often provide a significant advantage to one party or another and can be dispositive.&nbsp\;The format will be a moderated panel discussion and we&nbsp\;will take questions from the audience. Please join us for this event.<br />\n<br />\n<strong>About the&nbsp\;Speakers:</strong><br />\n<strong><a href="https://www.linkedin.com/in/steve-burkill-63b8892a/">Steven Burkill</a></strong>\, Partner\, Watson Farley &amp\; Williams\, Head of the firm&rsquo\;s Bangkok office\,&nbsp\;and Head of the WFW Dispute Resolution Group and a Deputy Senior Partner of the firm. Steven specializes in complex international disputes\, in particular\, London and Asia-based arbitrations. Steven has sat as an arbitrator (sole and co-arbitrator and Chair) in the ICC\, SIAC\, TAI and ad hoc arbitrations. This includes English Law and Thai Law.&nbsp\;Steven&#39\;s qualification:&nbsp\;Law Society of England and Wales\, Cambridge University.&nbsp\;<br />\n<br />\n<strong><a href="https://www.linkedin.com/in/antonycrockett/">Antony Crockett</a></strong>\,&nbsp\;Partner\, Herbert Smith (Hong Kong). Antony has more than 15 years experience in international arbitration and cross-border dispute resolution and has practised in Asia for a decade.&nbsp\;Antony is tri-qualified\, in Australia (Victoria)\, England &amp\; Wales and Hong Kong SAR. University of Melbourne\, LLB (Hons) Law\, London School of Economics and Political Science\, LLM (Dist.)\, International Law.&nbsp\;<br />\n<br />\n<strong><a href="https://www.linkedin.com/in/vaninasucharitkul/">Vanina Sucharitkul</a></strong>\,&nbsp\;FCIArb\, International Arbitrator\, L&#39\;Universit&eacute\; Paris Descartes (Paris V) Attorney-at-Law (California).&nbsp\;Vanina specializes in international commercial and investment arbitration and has over 15 years&rsquo\; experience advising local and international clients on diverse range of cross-border disputes\, as well as acting as counsel and advocate\, in leading international firm offices in San Francisco\, Bangkok\, Paris and London. Qualified in California\, Vanina then obtained her Doctorat en Droit (D.Phil) at the Universit&eacute\; de Paris Panth&eacute\;on-Assas on investment arbitration. Vanina has sat as arbitrator under the auspices of a number of institutions such as the TAI\, SIAC\, SCIA\, AIAC\,&nbsp\;and&nbsp\;ICC. Vanina served as Thailand&rsquo\;s member to the ICC&nbsp\;for 3 terms\, Director of Arbitral Women for 2 terms and is currently Chair of the CIArb Thailand and the President Founder of the YTHAC.&nbsp\;<br />\n<br />\n<strong>Our Moderator:</strong><br />\n<strong><a href="https://laathailand.com/lawyers/douglas-mancill/">Douglas Mancill</a></strong>\, Legal Analytics. Qualification: California. U.C. Berkeley Law School. Dual Thai and U.S. national. Jury and bench trials in the U.S. JAMS\, ICC\, TAI and ICSID arbitration work.&nbsp\;&nbsp\;</p>\n
LOCATION:Online Webinar
UID:e.3314.2308
SEQUENCE:3
DTSTAMP:20260420T162306Z
URL:https://connect.amchamthailand.com/events/details/legal-committee-the-importance-of-dispute-resolution-clauses-in-negotiated-transactions-2308
END:VEVENT

END:VCALENDAR
